{"text_format":"3","workbook":"xlsx","n_sheets":2,"sheets":["NOVATOS E INTERMEDIOS","CLASIFICADOS"],"not_rendered":{"comments":2},"read":"whole","date_system":"1900"}

{"sheet":"NOVATOS E INTERMEDIOS","index":0,"n_rows":107,"n_cols":85,"rows_kept":107}
[null,null,"PUNTUACION MEJORES CLUBES 2025 FORMATIVO"]
[null,null,"CLUB",null,"CURSO DE ACREDITACION DE ARBITRAJE QUITO -14 DE DICIEMBRE 2024","CURSO DE ACREDITACION DE ENTRENADORES QUITO 15-19 DE ENERO 2025","COPA ALDUPE QUITO 01-02 DE FEBRERO 2025","OPEN PROVINCIAL  NOVATOS INFANTIL A QUITO 01-MARZO-2025","OPEN PROVINCIAL  NOVATOS INFANTIL B QUITO 01-MARZO-2025","OPEN PROVINCIAL  NOVATOS CADETES QUITO 01-MARZO-2025","OPEN PROVINCIAL  NOVATOS  JUNIOR QUITO 01-MARZO-2025","OPEN PROVINCIAL  NOVATOS SENIOR Y MASTER QUITO 01-MARZO-2025","OPEN PROVINCIAL INTERMEDIOS A QUITO 01-MARZ0-2025","OPEN PROVINCIAL INTERMEDIOS B QUITO 01-MARZ0-2025","OPEN PROVINCIAL INTERMEDIOS CADETES QUITO 01-MARZ0-2025","OPEN PROVINCIAL INTERMEDIOS JUNIOR QUITO 01-MARZ0-2025","OPEN PROVINCIAL INTERMEDIOS SENIOR Y MSTER QUITO 01-MARZ0-2025","OPEN PROVINCIAL POOMSAE NOVATOS E  INTERMEDIOS´´ A ´´QUITO 01-MARZ0-2025","OPEN PROVINCIAL POOMSAE NOVATOS E  INTERMEDIOS´´ B´´ QUITO 01-MARZ0-2025","OPEN PROVINCIAL POOMSAE NOVATOS E  INTERMEDIOS CADETES QUITO 01-MARZ0-2025","OPEN PROVINCIAL POOMSAE NOVATOS E  INTERMEDIOS JUNIOR QUITO 01-MARZ0-2025","OPEN PROVINCIAL POOMSAE  NOVATOS E INTERMEDIOS SENIOR QUITO 01-MARZ0-2025","COPA YONG TIGER QUITO 22 DE MARZO DEL 2025","FESTIVAL DE HABILIDADES MOTRICES 05 DE ABRIL DEL 2025","COPA DECIAP QUITO 19 DE ABRIL DEL 2025","COPA TOTAL KOMBAT QUITO 25 DE MAYO DEL 2025","OPEN PROVINCIAL  NOVATOS INFANTIL A QUITO 05-06 DE JULIO-2025","OPEN PROVINCIAL  NOVATOS INFANTIL B QUITO 05-06 DE JULIO-2025","OPEN PROVINCIAL  NOVATOS CADETES QUITO 05-06 DE JULIO2025","OPEN PROVINCIAL  NOVATOS  JUNIOR QUITO 05-06 DE JULIO 2025","OPEN PROVINCIAL  NOVATOS SENIOR Y MASTER QUITO 05-06 DE JULIO2025","OPEN PROVINCIAL INTERMEDIOS A QUITO 05-06 DE JULIO 2025","OPEN PROVINCIAL INTERMEDIOS B QUITO 05-06 DE JULIO 2025","OPEN PROVINCIAL INTERMEDIOS CADETES QUITO 05 06 DE JULIO 2025","OPEN PROVINCIAL INTERMEDIOS JUNIOR QUITO 05-06 DE JULIO 2025","OPEN PROVINCIAL INTERMEDIOS SENIOR Y MSTER QUITO 05-06 DE JULIO 2025","OPEN PROVINCIAL POOMSAE NOVATOS E  INTERMEDIOS´´ A ´´QUITO 05-06 DE JULIO 2025","OPEN PROVINCIAL POOMSAE NOVATOS E  INTERMEDIOS´´ B´´ QUITO 05-06 DE JULIO 2025","OPEN PROVINCIAL POOMSAE NOVATOS E  INTERMEDIOS CADETES QUITO 05-06 DE JULIO 2025","OPEN PROVINCIAL POOMSAE NOVATOS E  INTERMEDIOS JUNIOR QUITO 05-06 DE JULIO 2025","OPEN PROVINCIAL POOMSAE  NOVATOS E INTERMEDIOS SENIOR QUITO 05-06 JULIO 2025","CURSO DE ACTUALIZACION DE ARBITRAJE QUITO 18-19 DE JULIO DEL 2025","OPEN HAGMADANG QUTIO 08 DE AGOSTO DEL 2025","COPA SEUL QUITO 17 DE AGOSTO DEL 2025",{"$nulls":37},"PUNTAJE TOTAL","UBICACIÓN","CLUB","PUNTAJE"]
[-1E-8,{"$f":"_xlfn.RANK.AVG(D3,$D$3:$D$103,0)","v":4},"APOLO",{"$f":"CD3+A3*ROW()","v":{"v":228.99999997,"d":"229"}},0,20,5,0,0,0,0,0,0,0,0,0,0,17,25,14,3,0,5,26,0,5,7,0,0,0,0,0,0,0,0,0,25,20,14,1,25,12,0,5,{"$nulls":37},{"$f":"SUM(E3:CC3)","v":229},1,{"$f":"VLOOKUP(CE3,'NOVATOS E INTERMEDIOS'!$B$3:$C$103,2,FALSE)","v":"BAEKJUL BG"},{"$f":"VLOOKUP(CF3,'NOVATOS E INTERMEDIOS'!$C$3:$CD$103,2,FALSE)","v":{"v":353.99999976,"d":"354"}}]
[-2E-8,10,"ARES",{"v":138.99999992,"d":"139"},6,22,5,0,0,0,0,0,0,0,0,0,14,0,0,0,17,0,0,18,5,5,0,0,7,7,11,0,null,0,0,0,0,0,0,0,1,2,14,5,{"$nulls":37},139,{"$f":"CE3+1","v":2},{"$f":"VLOOKUP(CE4,'NOVATOS E INTERMEDIOS'!$B$3:$C$103,2,FALSE)","v":"S.D.CENTRAL"},{"$f":"VLOOKUP(CF4,'NOVATOS E INTERMEDIOS'!$C$3:$CD$103,2,FALSE)","v":{"v":283.9999496,"d":"284"}}]
[-3e-08,32,"ATLAS CLUB",{"v":49.99999985,"d":"50"},4,4,0,0,0,0,0,0,0,0,1,14,0,0,0,0,0,0,0,0,0,0,0,0,0,0,0,0,0,0,17,0,0,0,0,0,0,10,0,0,{"$nulls":37},50,3,{"$f":"VLOOKUP(CE5,'NOVATOS E INTERMEDIOS'!$B$3:$C$103,2,FALSE)","v":"DEBAK TKD"},{"$f":"VLOOKUP(CF5,'NOVATOS E INTERMEDIOS'!$C$3:$CD$103,2,FALSE)","v":{"v":248.99999712,"d":"249"}}]
[-4e-08,1,"BAEKJUL BG",{"v":353.99999976,"d":"354"},8,14,5,25,11,20,0,0,17,0,0,17,0,0,0,25,0,0,0,58,0,5,25,20,0,0,0,25,0,0,0,0,0,0,20,0,20,34,0,5,{"$nulls":37},354,4,{"$f":"VLOOKUP(CE6,'NOVATOS E INTERMEDIOS'!$B$3:$C$103,2,FALSE)","v":"APOLO"},{"$f":"VLOOKUP(CF6,'NOVATOS E INTERMEDIOS'!$C$3:$CD$103,2,FALSE)","v":{"v":228.99999997,"d":"229"}}]
[-5e-08,21,"BAS PANTHER",{"v":87.99999965,"d":"88"},18,14,5,7,0,0,0,0,0,0,0,0,0,0,0,0,1,0,0,20,5,5,3,0,0,0,0,0,0,0,0,0,0,0,0,0,0,10,0,0,{"$nulls":37},88,5,{"$f":"VLOOKUP(CE7,'NOVATOS E INTERMEDIOS'!$B$3:$C$103,2,FALSE)","v":"JOSEON LEGACY"},{"$f":"VLOOKUP(CF7,'NOVATOS E INTERMEDIOS'!$C$3:$CD$103,2,FALSE)","v":{"v":210.9999848,"d":"211"}}]
[-6e-08,18,"BORJA´S LIONS",{"v":104.99999952,"d":"105"},0,16,0,0,0,0,0,0,0,0,0,0,0,0,0,0,0,0,0,0,0,5,0,0,0,0,7,11,14,0,11,0,11,25,3,0,0,2,0,0,{"$nulls":37},105,6,{"$f":"VLOOKUP(CE8,'NOVATOS E INTERMEDIOS'!$B$3:$C$103,2,FALSE)","v":"TOTAL KOMBAT"},{"$f":"VLOOKUP(CF8,'NOVATOS E INTERMEDIOS'!$C$3:$CD$103,2,FALSE)","v":{"v":190.9999172,"d":"191"}}]
[-7e-08,14,"BLUE DRAGONS",{"v":122.99999937,"d":"123"},0,16,5,3,1,0,0,0,14,14,25,0,0,0,0,0,0,0,5,0,0,0,0,0,0,0,0,14,1,7,0,0,0,0,0,0,0,18,0,0,{"$nulls":37},123,7,{"$f":"VLOOKUP(CE9,'NOVATOS E INTERMEDIOS'!$B$3:$C$103,2,FALSE)","v":"MERCENARIOS"},{"$f":"VLOOKUP(CF9,'NOVATOS E INTERMEDIOS'!$C$3:$CD$103,2,FALSE)","v":{"v":185.99996865,"d":"186"}}]
[-8e-08,41,"CIUDAD DE QUITO",{"v":32.9999992,"d":"33"},0,6,5,0,0,0,0,0,0,0,0,0,0,0,0,0,0,0,0,4,0,0,0,0,0,0,0,0,0,14,0,0,0,0,0,0,0,4,0,0,{"$nulls":37},33,8,{"$f":"VLOOKUP(CE10,'NOVATOS E INTERMEDIOS'!$B$3:$C$103,2,FALSE)","v":"LOS PUMAS"},{"$f":"VLOOKUP(CF10,'NOVATOS E INTERMEDIOS'!$C$3:$CD$103,2,FALSE)","v":{"v":159.99997192,"d":"160"}}]
[-9e-08,78,"CONDOR",{"v":3.99999901,"d":"4"},0,4,0,0,0,0,0,0,0,0,0,0,0,0,0,0,0,0,0,0,0,0,0,0,0,0,0,0,0,0,0,0,0,0,0,0,0,0,0,0,{"$nulls":37},4,9,{"$f":"VLOOKUP(CE11,'NOVATOS E INTERMEDIOS'!$B$3:$C$103,2,FALSE)","v":"KO AMERICA"},{"$f":"VLOOKUP(CF11,'NOVATOS E INTERMEDIOS'!$C$3:$CD$103,2,FALSE)","v":{"v":142.99998152,"d":"143"}}]
[-1e-07,85,"CLUB MIKIDO",{"v":1.9999988,"d":"2"},0,2,0,0,0,0,0,0,0,0,0,0,0,0,0,0,0,0,0,0,0,0,0,0,0,0,0,0,0,0,0,0,0,0,0,0,0,0,0,0,{"$nulls":37},2,10,{"$f":"VLOOKUP(CE12,'NOVATOS E INTERMEDIOS'!$B$3:$C$103,2,FALSE)","v":"ARES"},{"$f":"VLOOKUP(CF12,'NOVATOS E INTERMEDIOS'!$C$3:$CD$103,2,FALSE)","v":{"v":138.99999992,"d":"139"}}]
[-1.1e-07,95,"CHEN HUU",{"v":-1.43e-06,"d":"-0"},0,0,0,0,0,0,0,0,0,0,0,0,0,0,0,0,0,0,0,0,0,0,0,0,0,0,0,0,0,0,0,0,0,0,0,0,0,0,0,0,{"$nulls":37},0,11,{"$f":"VLOOKUP(CE13,'NOVATOS E INTERMEDIOS'!$B$3:$C$103,2,FALSE)","v":"SEUL"},{"$f":"VLOOKUP(CF13,'NOVATOS E INTERMEDIOS'!$C$3:$CD$103,2,FALSE)","v":{"v":136.99994376,"d":"137"}}]
[-1.2e-07,55,"CHONKWON",{"v":19.99999832,"d":"20"},0,0,0,0,0,0,0,0,0,0,0,0,20,0,0,0,0,0,0,0,0,0,0,0,0,0,0,0,0,0,0,0,0,0,0,0,0,0,0,0,{"$nulls":37},20,12,{"$f":"VLOOKUP(CE14,'NOVATOS E INTERMEDIOS'!$B$3:$C$103,2,FALSE)","v":"CHUNG SONG"},{"$f":"VLOOKUP(CF14,'NOVATOS E INTERMEDIOS'!$C$3:$CD$103,2,FALSE)","v":{"v":134.99999805,"d":"135"}}]
[-1.3E-7,12,"CHUNG SONG",{"v":134.99999805,"d":"135"},4,6,5,0,17,25,0,0,0,0,0,0,0,0,14,0,0,0,0,0,5,0,0,25,0,17,0,0,7,0,0,0,0,0,0,0,0,10,0,0,{"$nulls":37},135,13,{"$f":"VLOOKUP(CE15,'NOVATOS E INTERMEDIOS'!$B$3:$C$103,2,FALSE)","v":"LEON"},{"$f":"VLOOKUP(CF15,'NOVATOS E INTERMEDIOS'!$C$3:$CD$103,2,FALSE)","v":{"v":127.999976,"d":"128"}}]
[-1.4e-07,15,"CHAMPIONS FOR LIFE",{"v":122.99999776,"d":"123"},2,6,5,0,0,0,0,0,11,0,0,0,17,25,3,0,0,0,5,8,5,5,0,0,0,0,0,0,0,0,0,11,0,14,0,0,0,6,0,0,{"$nulls":37},123,14,{"$f":"VLOOKUP(CE16,'NOVATOS E INTERMEDIOS'!$B$3:$C$103,2,FALSE)","v":"BLUE DRAGONS"},{"$f":"VLOOKUP(CF16,'NOVATOS E INTERMEDIOS'!$C$3:$CD$103,2,FALSE)","v":{"v":122.99999937,"d":"123"}}]
[-1.5e-07,72,"DAIGORO",{"v":5.99999745,"d":"6"},0,6,0,0,0,0,0,0,0,0,0,0,0,0,0,0,0,0,0,0,0,0,0,0,0,0,0,0,0,0,0,0,0,0,0,0,0,0,0,0,{"$nulls":37},6,15,{"$f":"VLOOKUP(CE17,'NOVATOS E INTERMEDIOS'!$B$3:$C$103,2,FALSE)","v":"CHAMPIONS FOR LIFE"},{"$f":"VLOOKUP(CF17,'NOVATOS E INTERMEDIOS'!$C$3:$CD$103,2,FALSE)","v":{"v":122.99999776,"d":"123"}}]
[-1.6E-7,3,"DEBAK TKD",{"v":248.99999712,"d":"249"},0,32,5,1,20,11,7,17,0,11,0,1,0,0,17,17,11,0,5,20,0,5,0,0,0,0,1,0,0,11,0,0,0,17,17,0,11,12,0,0,{"$nulls":37},249,16,{"$f":"VLOOKUP(CE18,'NOVATOS E INTERMEDIOS'!$B$3:$C$103,2,FALSE)","v":"HAN KUM DO"},{"$f":"VLOOKUP(CF18,'NOVATOS E INTERMEDIOS'!$C$3:$CD$103,2,FALSE)","v":{"v":118.99998845,"d":"119"}}]
[-1.7e-07,47,"DECIAP",{"v":28.99999677,"d":"29"},0,14,5,0,0,0,0,0,0,0,0,0,0,0,0,0,0,0,5,0,5,0,0,0,0,0,0,0,0,0,0,0,0,0,0,0,0,0,0,0,{"$nulls":37},29,17,{"$f":"VLOOKUP(CE19,'NOVATOS E INTERMEDIOS'!$B$3:$C$103,2,FALSE)","v":"TAEKWONDO TRAINING CENTER"},{"$f":"VLOOKUP(CF19,'NOVATOS E INTERMEDIOS'!$C$3:$CD$103,2,FALSE)","v":{"v":108.99992945,"d":"109"}}]
[-1.8E-7,25,"DOJAN TAEKWONDO MELO",{"v":64.9999964,"d":"65"},4,4,0,0,0,0,0,0,0,0,0,0,0,0,20,11,0,0,0,0,0,0,0,0,0,0,0,0,0,0,0,0,7,3,11,3,0,2,0,0,{"$nulls":37},65,18,{"$f":"VLOOKUP(CE20,'NOVATOS E INTERMEDIOS'!$B$3:$C$103,2,FALSE)","v":"BORJA´S LIONS"},{"$f":"VLOOKUP(CF20,'NOVATOS E INTERMEDIOS'!$C$3:$CD$103,2,FALSE)","v":{"v":104.99999952,"d":"105"}}]
[-1.9e-07,31,"DRACO",{"v":53.99999601,"d":"54"},0,8,5,0,0,0,0,0,0,0,0,0,0,0,0,0,0,0,5,16,0,0,0,0,0,0,0,0,20,0,0,0,0,0,0,0,0,0,0,0,{"$nulls":37},54,19,{"$f":"VLOOKUP(CE21,'NOVATOS E INTERMEDIOS'!$B$3:$C$103,2,FALSE)","v":"PYONG YANG"},{"$f":"VLOOKUP(CF21,'NOVATOS E INTERMEDIOS'!$C$3:$CD$103,2,FALSE)","v":{"v":98.99995776,"d":"99"}}]
[-2e-07,50,"DRAGON GYM",{"v":22.9999956,"d":"23"},0,6,5,0,0,0,0,0,7,0,0,0,0,0,0,0,0,0,0,0,0,5,0,0,0,0,0,0,0,0,0,0,0,0,0,0,0,0,0,0,{"$nulls":37},23,20,{"$f":"VLOOKUP(CE22,'NOVATOS E INTERMEDIOS'!$B$3:$C$103,2,FALSE)","v":"MINOTAUROS"},{"$f":"VLOOKUP(CF22,'NOVATOS E INTERMEDIOS'!$C$3:$CD$103,2,FALSE)","v":{"v":88.9999652,"d":"89"}}]
[-2.1E-7,86,"DRAGON LEE GYM",{"v":1.99999517,"d":"2"},0,2,0,0,0,0,0,0,0,0,0,0,0,0,0,0,0,0,0,0,0,0,0,0,0,0,0,0,0,0,0,0,0,0,0,0,0,0,0,0,{"$nulls":37},2,21,{"$f":"VLOOKUP(CE23,'NOVATOS E INTERMEDIOS'!$B$3:$C$103,2,FALSE)","v":"BAS PANTHER"},{"$f":"VLOOKUP(CF23,'NOVATOS E INTERMEDIOS'!$C$3:$CD$103,2,FALSE)","v":{"v":87.99999965,"d":"88"}}]
[-2.2e-07,24,"ECUACUBA",{"v":73.99999472,"d":"74"},4,8,5,0,0,0,0,0,0,0,0,0,0,0,0,0,0,0,5,0,0,5,0,0,0,3,0,3,0,0,0,17,17,0,0,7,0,0,0,0,{"$nulls":37},74,22,{"$f":"VLOOKUP(CE24,'NOVATOS E INTERMEDIOS'!$B$3:$C$103,2,FALSE)","v":"SURYUN"},{"$f":"VLOOKUP(CF24,'NOVATOS E INTERMEDIOS'!$C$3:$CD$103,2,FALSE)","v":{"v":84.99993917,"d":"85"}}]
[-2.3e-07,33,"ECUADOR",{"v":48.99999425,"d":"49"},0,20,0,0,0,0,0,0,0,0,0,0,0,0,0,0,0,0,0,0,0,0,0,0,0,0,0,0,0,0,0,0,0,0,0,0,7,22,0,0,{"$nulls":37},49,23,{"$f":"VLOOKUP(CE25,'NOVATOS E INTERMEDIOS'!$B$3:$C$103,2,FALSE)","v":"ESPE"},{"$f":"VLOOKUP(CF25,'NOVATOS E INTERMEDIOS'!$C$3:$CD$103,2,FALSE)","v":{"v":75.99999325,"d":"76"}}]
[-2.4e-07,62,"EQUILIBRIO",{"v":14.99999376,"d":"15"},4,6,0,0,0,0,0,0,0,0,0,0,3,0,0,0,0,0,0,0,0,0,0,0,0,0,0,0,0,0,0,0,0,0,0,0,0,2,0,0,{"$nulls":37},15,24,{"$f":"VLOOKUP(CE26,'NOVATOS E INTERMEDIOS'!$B$3:$C$103,2,FALSE)","v":"ECUACUBA"},{"$f":"VLOOKUP(CF26,'NOVATOS E INTERMEDIOS'!$C$3:$CD$103,2,FALSE)","v":{"v":73.99999472,"d":"74"}}]
[-2.5e-07,23,"ESPE",{"v":75.99999325,"d":"76"},2,20,0,0,0,0,0,0,0,0,0,0,25,0,0,0,0,0,0,0,5,0,0,0,0,0,17,0,0,0,0,1,0,0,0,0,0,6,0,0,{"$nulls":37},76,25,{"$f":"VLOOKUP(CE27,'NOVATOS E INTERMEDIOS'!$B$3:$C$103,2,FALSE)","v":"DOJAN TAEKWONDO MELO"},{"$f":"VLOOKUP(CF27,'NOVATOS E INTERMEDIOS'!$C$3:$CD$103,2,FALSE)","v":{"v":64.9999964,"d":"65"}}]
[-2.6E-7,73,"FRANG",{"v":5.99999272,"d":"6"},0,2,0,0,0,0,0,0,0,0,0,0,0,0,0,0,0,0,0,2,0,0,0,0,0,0,0,0,0,0,0,0,0,0,0,0,0,2,0,0,{"$nulls":37},6,26,{"$f":"VLOOKUP(CE28,'NOVATOS E INTERMEDIOS'!$B$3:$C$103,2,FALSE)","v":"KUKKIKWON"},{"$f":"VLOOKUP(CF28,'NOVATOS E INTERMEDIOS'!$C$3:$CD$103,2,FALSE)","v":{"v":60.99997885,"d":"61"}}]
[-2.7e-07,69,"FIT KWON DO",{"v":8.99999217,"d":"9"},0,4,0,0,0,0,0,0,0,0,0,0,0,0,0,0,0,0,0,0,0,5,0,0,0,0,0,0,0,0,0,0,0,0,0,0,0,0,0,0,{"$nulls":37},9,27,{"$f":"VLOOKUP(CE29,'NOVATOS E INTERMEDIOS'!$B$3:$C$103,2,FALSE)","v":"KYORUGUI GYM"},{"$f":"VLOOKUP(CF29,'NOVATOS E INTERMEDIOS'!$C$3:$CD$103,2,FALSE)","v":{"v":60.99997697,"d":"61"}}]
[-2.8e-07,57,"FIRST CLASS CALDERON",{"v":17.9999916,"d":"18"},0,6,0,0,0,0,0,0,0,0,0,0,0,0,0,0,0,0,5,0,0,5,0,0,0,0,0,0,0,0,0,0,0,0,0,0,0,2,0,0,{"$nulls":37},18,28,{"$f":"VLOOKUP(CE30,'NOVATOS E INTERMEDIOS'!$B$3:$C$103,2,FALSE)","v":"TAE BAEK ECUADOR JR"},{"$f":"VLOOKUP(CF30,'NOVATOS E INTERMEDIOS'!$C$3:$CD$103,2,FALSE)","v":{"v":58.99993601,"d":"59"}}]
[-2.9e-07,45,"FURIA NEGRA ",{"v":30.99999101,"d":"31"},0,2,5,0,0,0,0,0,0,0,0,0,0,0,0,0,0,0,0,0,0,0,17,0,0,1,0,0,0,0,0,0,0,0,0,0,0,6,0,0,{"$nulls":37},31,29,{"$f":"VLOOKUP(CE31,'NOVATOS E INTERMEDIOS'!$B$3:$C$103,2,FALSE)","v":"SAN SEBASTIAN"},{"$f":"VLOOKUP(CF31,'NOVATOS E INTERMEDIOS'!$C$3:$CD$103,2,FALSE)","v":{"v":55.99994672,"d":"56"}}]
[-3e-07,66,"GRAN MASTER",{"v":11.9999904,"d":"12"},0,2,0,0,0,0,0,0,0,0,0,0,0,0,0,0,0,0,0,0,5,5,0,0,0,0,0,0,0,0,0,0,0,0,0,0,0,0,0,0,{"$nulls":37},12,30,{"$f":"VLOOKUP(CE32,'NOVATOS E INTERMEDIOS'!$B$3:$C$103,2,FALSE)","v":"TAE SHO KU"},{"$f":"VLOOKUP(CF32,'NOVATOS E INTERMEDIOS'!$C$3:$CD$103,2,FALSE)","v":{"v":55.99993277,"d":"56"}}]
[-3.1E-7,96,"GOYANG - IDEUL",{"v":-1.023E-5,"d":"-0"},0,0,0,0,0,0,0,0,0,0,0,0,0,0,0,0,0,0,0,0,0,0,0,0,0,0,0,0,0,0,0,0,0,0,0,0,0,0,0,0,{"$nulls":37},0,{"$f":"CE32+1","v":31},{"$f":"VLOOKUP(CE33,'NOVATOS E INTERMEDIOS'!$B$3:$C$103,2,FALSE)","v":"DRACO"},{"$f":"VLOOKUP(CF33,'NOVATOS E INTERMEDIOS'!$C$3:$CD$103,2,FALSE)","v":{"v":53.99999601,"d":"54"}}]
[-3.2e-07,40,"HAN SU",{"v":36.99998912,"d":"37"},0,26,5,0,0,0,0,0,0,0,0,0,0,0,0,0,0,0,0,0,0,0,0,0,0,0,0,0,0,0,0,0,0,0,0,0,0,6,0,0,{"$nulls":37},37,32,{"$f":"VLOOKUP(CE34,'NOVATOS E INTERMEDIOS'!$B$3:$C$103,2,FALSE)","v":"ATLAS CLUB"},{"$f":"VLOOKUP(CF34,'NOVATOS E INTERMEDIOS'!$C$3:$CD$103,2,FALSE)","v":{"v":49.99999985,"d":"50"}}]
[-3.3e-07,16,"HAN KUM DO",{"$f":"CD35+A35*ROW()","v":{"v":118.99998845,"d":"119"}},0,4,5,0,0,7,17,0,0,0,0,0,0,14,0,1,7,0,0,0,5,5,11,0,25,14,0,0,0,0,0,0,0,0,0,0,0,4,0,0,{"$nulls":37},{"$f":"SUM(E35:CC35)","v":119},33,{"$f":"VLOOKUP(CE35,'NOVATOS E INTERMEDIOS'!$B$3:$C$103,2,FALSE)","v":"ECUADOR"},{"$f":"VLOOKUP(CF35,'NOVATOS E INTERMEDIOS'!$C$3:$CD$103,2,FALSE)","v":{"v":48.99999425,"d":"49"}}]
[-3.4e-07,63,"HIMCHARI DONJANG",{"v":13.99998776,"d":"14"},0,4,5,0,0,0,0,0,0,0,0,0,0,0,0,0,0,0,0,0,5,0,0,0,0,0,0,0,0,0,0,0,0,0,0,0,0,0,0,0,{"$nulls":37},14,34,{"$f":"VLOOKUP(CE36,'NOVATOS E INTERMEDIOS'!$B$3:$C$103,2,FALSE)","v":"KOREAN DRAGON"},{"$f":"VLOOKUP(CF36,'NOVATOS E INTERMEDIOS'!$C$3:$CD$103,2,FALSE)","v":{"v":45.99998065,"d":"46"}}]
[-3.5e-07,68,"HUAN TOP GYM",{"v":10.99998705,"d":"11"},0,6,0,0,0,0,0,0,0,0,0,0,0,0,0,0,0,0,0,0,0,5,0,0,0,0,0,0,0,0,0,0,0,0,0,0,0,0,0,0,{"$nulls":37},11,35,{"$f":"VLOOKUP(CE37,'NOVATOS E INTERMEDIOS'!$B$3:$C$103,2,FALSE)","v":"MARCIAL CLUB GRANDA"},{"$f":"VLOOKUP(CF37,'NOVATOS E INTERMEDIOS'!$C$3:$CD$103,2,FALSE)","v":{"v":42.99996976,"d":"43"}}]
[-3.6e-07,43,"ILYOP MP",{"v":31.99998632,"d":"32"},0,10,5,0,0,0,0,0,0,0,0,0,0,0,0,0,0,0,5,0,0,5,1,0,0,0,0,0,0,0,0,0,0,0,0,0,0,6,0,0,{"$nulls":37},32,36,{"$f":"VLOOKUP(CE38,'NOVATOS E INTERMEDIOS'!$B$3:$C$103,2,FALSE)","v":"ROJAS  IRON FIRST"},{"$f":"VLOOKUP(CF38,'NOVATOS E INTERMEDIOS'!$C$3:$CD$103,2,FALSE)","v":{"v":41.99995101,"d":"42"}}]
[-3.7E-7,74,"JI DO KWAN ",{"v":5.99998557,"d":"6"},2,2,0,0,0,0,0,0,0,0,0,0,0,0,0,0,0,0,0,0,0,0,0,0,0,0,0,0,0,0,0,0,0,0,0,0,0,2,0,0,{"$nulls":37},6,37,{"$f":"VLOOKUP(CE39,'NOVATOS E INTERMEDIOS'!$B$3:$C$103,2,FALSE)","v":"SAN FRANCISCO TIGRES"},{"$f":"VLOOKUP(CF39,'NOVATOS E INTERMEDIOS'!$C$3:$CD$103,2,FALSE)","v":{"v":40.99994817,"d":"41"}}]
[-3.8e-07,5,"JOSEON LEGACY",{"v":210.9999848,"d":"211"},12,6,5,0,0,0,25,11,0,0,0,25,0,0,0,0,14,0,0,18,0,5,0,0,0,20,0,0,0,0,3,25,0,0,0,25,0,12,0,5,{"$nulls":37},211,38,{"$f":"VLOOKUP(CE40,'NOVATOS E INTERMEDIOS'!$B$3:$C$103,2,FALSE)","v":"SHOGUN"},{"$f":"VLOOKUP(CF40,'NOVATOS E INTERMEDIOS'!$C$3:$CD$103,2,FALSE)","v":{"v":40.99994225,"d":"41"}}]
[-3.9e-07,75,"JR SPORT",{"v":5.99998401,"d":"6"},4,2,0,0,0,0,0,0,0,0,0,0,0,0,0,0,0,0,0,0,0,0,0,0,0,0,0,0,0,0,0,0,0,0,0,0,0,0,0,0,{"$nulls":37},6,39,{"$f":"VLOOKUP(CE41,'NOVATOS E INTERMEDIOS'!$B$3:$C$103,2,FALSE)","v":"TAE WOONG"},{"$f":"VLOOKUP(CF41,'NOVATOS E INTERMEDIOS'!$C$3:$CD$103,2,FALSE)","v":{"v":38.99992432,"d":"39"}}]
[-4e-07,51,"JUVENTUS",{"v":21.9999832,"d":"22"},12,6,0,0,0,0,0,0,0,0,0,0,0,0,0,0,0,0,0,0,0,0,0,0,0,0,0,0,0,0,0,0,0,0,0,0,0,4,0,0,{"$nulls":37},22,40,{"$f":"VLOOKUP(CE42,'NOVATOS E INTERMEDIOS'!$B$3:$C$103,2,FALSE)","v":"HAN SU"},{"$f":"VLOOKUP(CF42,'NOVATOS E INTERMEDIOS'!$C$3:$CD$103,2,FALSE)","v":{"v":36.99998912,"d":"37"}}]
[-4.1e-07,44,"JERATHEL",{"v":31.99998237,"d":"32"},0,4,5,0,0,0,0,0,0,0,0,0,11,7,0,0,0,0,0,0,0,5,0,0,0,0,0,0,0,0,0,0,0,0,0,0,0,0,0,0,{"$nulls":37},32,41,{"$f":"VLOOKUP(CE43,'NOVATOS E INTERMEDIOS'!$B$3:$C$103,2,FALSE)","v":"CIUDAD DE QUITO"},{"$f":"VLOOKUP(CF43,'NOVATOS E INTERMEDIOS'!$C$3:$CD$103,2,FALSE)","v":{"v":32.9999992,"d":"33"}}]
[-4.2E-7,9,"KO AMERICA",{"v":142.99998152,"d":"143"},2,12,0,0,0,0,0,0,0,0,11,0,0,20,0,20,25,0,0,0,0,5,0,14,0,0,0,1,0,0,0,14,0,0,0,17,0,2,0,0,{"$nulls":37},143,42,{"$f":"VLOOKUP(CE44,'NOVATOS E INTERMEDIOS'!$B$3:$C$103,2,FALSE)","v":"KUNGAN DUL"},{"$f":"VLOOKUP(CF44,'NOVATOS E INTERMEDIOS'!$C$3:$CD$103,2,FALSE)","v":{"v":32.99997792,"d":"33"}}]
[-4.3e-07,34,"KOREAN DRAGON",{"v":45.99998065,"d":"46"},0,22,0,0,0,0,0,0,0,0,0,0,0,0,0,0,0,0,0,0,0,0,0,0,0,0,0,0,0,0,0,0,0,0,7,0,17,0,0,0,{"$nulls":37},46,43,{"$f":"VLOOKUP(CE45,'NOVATOS E INTERMEDIOS'!$B$3:$C$103,2,FALSE)","v":"ILYOP MP"},{"$f":"VLOOKUP(CF45,'NOVATOS E INTERMEDIOS'!$C$3:$CD$103,2,FALSE)","v":{"v":31.99998632,"d":"32"}}]
[-4.4e-07,46,"KORYO",{"v":29.99997976,"d":"30"},2,12,5,0,0,0,0,0,0,0,0,0,0,0,0,0,0,0,0,0,0,5,0,0,0,0,0,0,0,0,0,0,0,0,0,0,0,6,0,0,{"$nulls":37},30,44,{"$f":"VLOOKUP(CE46,'NOVATOS E INTERMEDIOS'!$B$3:$C$103,2,FALSE)","v":"JERATHEL"},{"$f":"VLOOKUP(CF46,'NOVATOS E INTERMEDIOS'!$C$3:$CD$103,2,FALSE)","v":{"v":31.99998237,"d":"32"}}]
[-4.5e-07,26,"KUKKIKWON",{"v":60.99997885,"d":"61"},0,6,0,0,0,0,0,0,1,17,0,0,0,0,0,7,0,0,0,0,0,5,0,0,0,0,0,0,25,0,0,0,0,0,0,0,0,0,0,0,{"$nulls":37},61,45,{"$f":"VLOOKUP(CE47,'NOVATOS E INTERMEDIOS'!$B$3:$C$103,2,FALSE)","v":"FURIA NEGRA "},{"$f":"VLOOKUP(CF47,'NOVATOS E INTERMEDIOS'!$C$3:$CD$103,2,FALSE)","v":{"v":30.99999101,"d":"31"}}]
[-4.6e-07,42,"KUNGAN DUL",{"v":32.99997792,"d":"33"},0,12,0,14,0,0,0,0,0,0,0,0,0,0,0,0,0,0,0,0,5,0,0,0,0,0,0,0,0,0,0,0,0,0,0,0,0,2,0,0,{"$nulls":37},33,46,{"$f":"VLOOKUP(CE48,'NOVATOS E INTERMEDIOS'!$B$3:$C$103,2,FALSE)","v":"KORYO"},{"$f":"VLOOKUP(CF48,'NOVATOS E INTERMEDIOS'!$C$3:$CD$103,2,FALSE)","v":{"v":29.99997976,"d":"30"}}]
[-4.7E-7,27,"KYORUGUI GYM",{"v":60.99997697,"d":"61"},0,10,0,0,0,0,14,14,0,0,0,0,7,11,0,0,0,0,5,0,0,0,0,0,0,0,0,0,0,0,0,0,0,0,0,0,0,0,0,0,{"$nulls":37},61,47,{"$f":"VLOOKUP(CE49,'NOVATOS E INTERMEDIOS'!$B$3:$C$103,2,FALSE)","v":"DECIAP"},{"$f":"VLOOKUP(CF49,'NOVATOS E INTERMEDIOS'!$C$3:$CD$103,2,FALSE)","v":{"v":28.99999677,"d":"29"}}]
[-4.8e-07,13,"LEON",{"v":127.999976,"d":"128"},2,8,5,0,3,17,3,0,0,0,17,11,0,0,0,0,0,0,0,0,0,5,0,3,0,0,14,20,11,3,0,0,0,0,0,0,0,6,0,0,{"$nulls":37},128,48,{"$f":"VLOOKUP(CE50,'NOVATOS E INTERMEDIOS'!$B$3:$C$103,2,FALSE)","v":"SIM JANG TEAM"},{"$f":"VLOOKUP(CF50,'NOVATOS E INTERMEDIOS'!$C$3:$CD$103,2,FALSE)","v":{"v":26.99994072,"d":"27"}}]
[-4.9e-07,58,"LIGA CANTONAL MEJIA",{"v":16.99997501,"d":"17"},0,8,5,0,0,3,0,0,0,0,0,0,0,0,0,0,0,0,0,0,0,0,0,0,0,0,0,0,0,1,0,0,0,0,0,0,0,0,0,0,{"$nulls":37},17,49,{"$f":"VLOOKUP(CE51,'NOVATOS E INTERMEDIOS'!$B$3:$C$103,2,FALSE)","v":"YONG TIGER"},{"$f":"VLOOKUP(CF51,'NOVATOS E INTERMEDIOS'!$C$3:$CD$103,2,FALSE)","v":{"v":24.99990001,"d":"25"}}]
[-5e-07,76,"LITHE BODY",{"v":5.999974,"d":"6"},0,0,0,0,0,0,0,0,0,0,0,0,0,0,0,0,0,0,0,0,0,0,0,0,0,0,0,0,0,0,0,0,0,0,0,0,0,6,0,0,{"$nulls":37},6,50,{"$f":"VLOOKUP(CE52,'NOVATOS E INTERMEDIOS'!$B$3:$C$103,2,FALSE)","v":"DRAGON GYM"},{"$f":"VLOOKUP(CF52,'NOVATOS E INTERMEDIOS'!$C$3:$CD$103,2,FALSE)","v":{"v":22.9999956,"d":"23"}}]
[-5.1e-07,87,"LOBOS",{"v":1.99997297,"d":"2"},0,2,0,0,0,0,0,0,0,0,0,0,0,0,0,0,0,0,0,0,0,0,0,0,0,0,0,0,0,0,0,0,0,0,0,0,0,0,0,0,{"$nulls":37},2,51,{"$f":"VLOOKUP(CE53,'NOVATOS E INTERMEDIOS'!$B$3:$C$103,2,FALSE)","v":"JUVENTUS"},{"$f":"VLOOKUP(CF53,'NOVATOS E INTERMEDIOS'!$C$3:$CD$103,2,FALSE)","v":{"v":21.9999832,"d":"22"}}]
[-5.2E-7,8,"LOS PUMAS",{"v":159.99997192,"d":"160"},2,20,0,20,0,0,0,0,3,3,20,0,0,0,0,0,0,0,0,0,0,0,0,0,0,0,0,17,0,25,25,0,0,0,0,0,0,8,17,0,{"$nulls":37},160,52,{"$f":"VLOOKUP(CE54,'NOVATOS E INTERMEDIOS'!$B$3:$C$103,2,FALSE)","v":"TAEKWONDO JUCARO"},{"$f":"VLOOKUP(CF54,'NOVATOS E INTERMEDIOS'!$C$3:$CD$103,2,FALSE)","v":{"v":21.99992605,"d":"22"}}]
[-5.3e-07,61,"MASTER HOME",{"v":15.99997085,"d":"16"},0,6,0,0,0,0,0,0,0,0,0,0,0,0,0,0,0,0,0,0,0,0,0,0,0,0,0,0,0,0,0,0,0,0,0,0,0,10,0,0,{"$nulls":37},16,53,{"$f":"VLOOKUP(CE55,'NOVATOS E INTERMEDIOS'!$B$3:$C$103,2,FALSE)","v":"PANDADEMON"},{"$f":"VLOOKUP(CF55,'NOVATOS E INTERMEDIOS'!$C$3:$CD$103,2,FALSE)","v":{"v":20.99996157,"d":"21"}}]
[-5.4e-07,35,"MARCIAL CLUB GRANDA",{"v":42.99996976,"d":"43"},0,10,0,0,0,0,1,0,0,20,0,0,0,3,0,0,0,0,0,0,0,0,0,0,0,0,0,0,0,0,0,0,3,0,0,0,0,6,0,0,{"$nulls":37},43,54,{"$f":"VLOOKUP(CE56,'NOVATOS E INTERMEDIOS'!$B$3:$C$103,2,FALSE)","v":"TAE BAEK ECUADOR "},{"$f":"VLOOKUP(CF56,'NOVATOS E INTERMEDIOS'!$C$3:$CD$103,2,FALSE)","v":{"v":20.9999376,"d":"21"}}]
[-5.5e-07,7,"MERCENARIOS",{"v":185.99996865,"d":"186"},0,22,5,0,7,14,0,7,25,0,0,0,0,0,0,0,0,0,0,0,5,5,20,17,20,25,0,0,0,0,14,0,0,0,0,0,0,0,0,0,{"$nulls":37},186,55,{"$f":"VLOOKUP(CE57,'NOVATOS E INTERMEDIOS'!$B$3:$C$103,2,FALSE)","v":"CHONKWON"},{"$f":"VLOOKUP(CF57,'NOVATOS E INTERMEDIOS'!$C$3:$CD$103,2,FALSE)","v":{"v":19.99999832,"d":"20"}}]
[-5.6e-07,88,"MILENIUM",{"v":1.99996752,"d":"2"},0,2,0,0,0,0,0,0,0,0,0,0,0,0,0,0,0,0,0,0,0,0,0,0,0,0,0,0,0,0,0,0,0,0,0,0,0,0,0,0,{"$nulls":37},2,56,{"$f":"VLOOKUP(CE58,'NOVATOS E INTERMEDIOS'!$B$3:$C$103,2,FALSE)","v":"RAIG de LLUM"},{"$f":"VLOOKUP(CF58,'NOVATOS E INTERMEDIOS'!$C$3:$CD$103,2,FALSE)","v":{"v":19.99995645,"d":"20"}}]
[-5.7e-07,79,"MICHAY DO",{"v":3.99996637,"d":"4"},0,2,0,0,0,0,0,0,0,0,0,0,0,0,0,0,0,0,0,0,0,0,0,0,0,0,0,0,0,0,0,0,0,0,0,0,0,2,0,0,{"$nulls":37},4,57,{"$f":"VLOOKUP(CE59,'NOVATOS E INTERMEDIOS'!$B$3:$C$103,2,FALSE)","v":"FIRST CLASS CALDERON"},{"$f":"VLOOKUP(CF59,'NOVATOS E INTERMEDIOS'!$C$3:$CD$103,2,FALSE)","v":{"v":17.9999916,"d":"18"}}]
[-5.8e-07,20,"MINOTAUROS",{"v":88.9999652,"d":"89"},0,8,5,0,0,0,0,25,0,0,0,0,0,0,0,0,0,0,0,0,5,0,14,7,0,0,20,0,0,0,0,0,0,0,0,0,0,0,0,5,{"$nulls":37},89,58,{"$f":"VLOOKUP(CE60,'NOVATOS E INTERMEDIOS'!$B$3:$C$103,2,FALSE)","v":"LIGA CANTONAL MEJIA"},{"$f":"VLOOKUP(CF60,'NOVATOS E INTERMEDIOS'!$C$3:$CD$103,2,FALSE)","v":{"v":16.99997501,"d":"17"}}]
[-5.9e-07,77,"MIT-TKD",{"v":4.99996401,"d":"5"},0,0,0,0,0,0,0,0,0,0,0,0,0,0,0,0,0,0,5,0,0,0,0,0,0,0,0,0,0,0,0,0,0,0,0,0,0,0,0,0,{"$nulls":37},5,59,{"$f":"VLOOKUP(CE61,'NOVATOS E INTERMEDIOS'!$B$3:$C$103,2,FALSE)","v":"UNIVERSIDAD CENTRAL (CAMU)"},{"$f":"VLOOKUP(CF61,'NOVATOS E INTERMEDIOS'!$C$3:$CD$103,2,FALSE)","v":{"v":16.99991165,"d":"17"}}]
[-6e-07,70,"PALADINES",{"v":7.9999628,"d":"8"},0,8,0,0,0,0,0,0,0,0,0,0,0,0,0,0,0,0,0,0,0,0,0,0,0,0,0,0,0,0,0,0,0,0,0,0,0,0,0,0,{"$nulls":37},8,60,{"$f":"VLOOKUP(CE62,'NOVATOS E INTERMEDIOS'!$B$3:$C$103,2,FALSE)","v":"UNIVERSIDAD UTE"},{"$f":"VLOOKUP(CF62,'NOVATOS E INTERMEDIOS'!$C$3:$CD$103,2,FALSE)","v":{"v":16.99990785,"d":"17"}}]
[-6.1e-07,53,"PANDADEMON",{"v":20.99996157,"d":"21"},0,14,0,0,0,0,0,0,0,0,0,0,0,0,0,0,0,0,0,0,0,0,0,0,0,0,0,0,0,0,0,0,0,0,0,0,0,2,0,5,{"$nulls":37},21,61,{"$f":"VLOOKUP(CE63,'NOVATOS E INTERMEDIOS'!$B$3:$C$103,2,FALSE)","v":"MASTER HOME"},{"$f":"VLOOKUP(CF63,'NOVATOS E INTERMEDIOS'!$C$3:$CD$103,2,FALSE)","v":{"v":15.99997085,"d":"16"}}]
[-6.2e-07,67,"PIONEROS FORTI",{"v":11.99996032,"d":"12"},0,2,0,0,0,0,0,0,0,0,0,0,0,0,0,0,0,0,0,10,0,0,0,0,0,0,0,0,0,0,0,0,0,0,0,0,0,0,0,0,{"$nulls":37},12,62,{"$f":"VLOOKUP(CE64,'NOVATOS E INTERMEDIOS'!$B$3:$C$103,2,FALSE)","v":"EQUILIBRIO"},{"$f":"VLOOKUP(CF64,'NOVATOS E INTERMEDIOS'!$C$3:$CD$103,2,FALSE)","v":{"v":14.99999376,"d":"15"}}]
[-6.3E-7,80,"PIONEROS MEJIA",{"v":3.99995905,"d":"4"},0,4,0,0,0,0,0,0,0,0,0,0,0,0,0,0,0,0,0,0,0,0,0,0,0,0,0,0,0,0,0,0,0,0,0,0,0,0,0,0,{"$nulls":37},4,63,{"$f":"VLOOKUP(CE65,'NOVATOS E INTERMEDIOS'!$B$3:$C$103,2,FALSE)","v":"HIMCHARI DONJANG"},{"$f":"VLOOKUP(CF65,'NOVATOS E INTERMEDIOS'!$C$3:$CD$103,2,FALSE)","v":{"v":13.99998776,"d":"14"}}]
[-6.4e-07,19,"PYONG YANG",{"v":98.99995776,"d":"99"},0,10,0,0,25,0,11,20,0,0,0,0,0,0,0,0,0,0,0,0,5,0,0,11,1,11,3,0,0,0,0,0,0,0,0,0,0,2,0,0,{"$nulls":37},99,64,{"$f":"VLOOKUP(CE66,'NOVATOS E INTERMEDIOS'!$B$3:$C$103,2,FALSE)","v":"TEAM VENCEDORES"},{"$f":"VLOOKUP(CF66,'NOVATOS E INTERMEDIOS'!$C$3:$CD$103,2,FALSE)","v":{"v":13.9999208,"d":"14"}}]
[-6.5e-07,{"$f":"_xlfn.RANK.AVG(D67,$D$3:$D$103,0)","v":56},"RAIG de LLUM",{"$f":"CD67+A67*ROW()","v":{"v":19.99995645,"d":"20"}},0,10,0,0,0,0,0,0,0,0,0,0,0,0,0,0,0,0,5,0,0,5,0,0,0,0,0,0,0,0,0,0,0,0,0,0,0,0,0,0,{"$nulls":37},{"$f":"SUM(E67:CC67)","v":20},65,{"$f":"VLOOKUP(CE67,'NOVATOS E INTERMEDIOS'!$B$3:$C$103,2,FALSE)","v":"TAE DO ACADEMY"},{"$f":"VLOOKUP(CF67,'NOVATOS E INTERMEDIOS'!$C$3:$CD$103,2,FALSE)","v":{"v":12.99993112,"d":"13"}}]
[-6.6e-07,89,"RED TANAKA",{"v":1.99995512,"d":"2"},0,2,0,0,0,0,0,0,0,0,0,0,0,0,0,0,0,0,0,0,0,0,0,0,0,0,0,0,0,0,0,0,0,0,0,0,0,0,0,0,{"$nulls":37},2,{"$f":"CE67+1","v":66},{"$f":"VLOOKUP(CE68,'NOVATOS E INTERMEDIOS'!$B$3:$C$103,2,FALSE)","v":"GRAN MASTER"},{"$f":"VLOOKUP(CF68,'NOVATOS E INTERMEDIOS'!$C$3:$CD$103,2,FALSE)","v":{"v":11.9999904,"d":"12"}}]
[-6.7e-07,81,"RENACER",{"v":3.99995377,"d":"4"},0,2,0,0,0,0,0,0,0,0,0,0,0,0,0,0,0,0,0,0,0,0,0,0,0,0,0,0,0,0,0,0,0,0,0,0,0,2,0,0,{"$nulls":37},4,67,{"$f":"VLOOKUP(CE69,'NOVATOS E INTERMEDIOS'!$B$3:$C$103,2,FALSE)","v":"PIONEROS FORTI"},{"$f":"VLOOKUP(CF69,'NOVATOS E INTERMEDIOS'!$C$3:$CD$103,2,FALSE)","v":{"v":11.99996032,"d":"12"}}]
[-6.8e-07,97,"RIONG TAE",{"v":-4.76e-05,"d":"-0"},0,0,0,0,0,0,0,0,0,0,0,0,0,0,0,0,0,0,0,0,0,0,0,0,0,0,0,0,0,0,0,0,0,null,0,0,0,0,0,0,{"$nulls":37},0,68,{"$f":"VLOOKUP(CE70,'NOVATOS E INTERMEDIOS'!$B$3:$C$103,2,FALSE)","v":"HUAN TOP GYM"},{"$f":"VLOOKUP(CF70,'NOVATOS E INTERMEDIOS'!$C$3:$CD$103,2,FALSE)","v":{"v":10.99998705,"d":"11"}}]
[-6.9e-07,36,"ROJAS  IRON FIRST",{"v":41.99995101,"d":"42"},0,2,0,0,0,0,0,0,0,0,0,0,0,0,0,0,0,0,5,0,5,0,0,0,11,0,0,0,0,17,0,0,0,0,0,0,0,2,0,0,{"$nulls":37},42,69,{"$f":"VLOOKUP(CE71,'NOVATOS E INTERMEDIOS'!$B$3:$C$103,2,FALSE)","v":"FIT KWON DO"},{"$f":"VLOOKUP(CF71,'NOVATOS E INTERMEDIOS'!$C$3:$CD$103,2,FALSE)","v":{"v":8.99999217,"d":"9"}}]
[-7e-07,2,"S.D.CENTRAL",{"v":283.9999496,"d":"284"},6,36,5,17,14,1,0,0,0,25,14,7,0,0,11,0,0,0,0,24,5,5,0,0,17,0,25,0,17,0,1,7,0,0,0,0,0,22,20,5,{"$nulls":37},284,70,{"$f":"VLOOKUP(CE72,'NOVATOS E INTERMEDIOS'!$B$3:$C$103,2,FALSE)","v":"PALADINES"},{"$f":"VLOOKUP(CF72,'NOVATOS E INTERMEDIOS'!$C$3:$CD$103,2,FALSE)","v":{"v":7.9999628,"d":"8"}}]
[-7.1e-07,37,"SAN FRANCISCO TIGRES",{"v":40.99994817,"d":"41"},0,8,5,0,0,0,0,0,0,0,0,0,0,0,0,0,0,0,0,0,0,0,0,0,0,0,0,0,0,0,0,0,14,0,1,11,0,2,0,0,{"$nulls":37},41,71,{"$f":"VLOOKUP(CE73,'NOVATOS E INTERMEDIOS'!$B$3:$C$103,2,FALSE)","v":"U SAN FRANCISCO USFQ"},{"$f":"VLOOKUP(CF73,'NOVATOS E INTERMEDIOS'!$C$3:$CD$103,2,FALSE)","v":{"v":6.99991537,"d":"7"}}]
[-7.2e-07,29,"SAN SEBASTIAN",{"v":55.99994672,"d":"56"},2,8,5,0,0,0,0,0,0,0,0,0,0,1,0,0,0,0,0,0,0,5,0,0,0,0,0,0,0,0,0,0,20,11,0,0,0,4,0,0,{"$nulls":37},56,72,{"$f":"VLOOKUP(CE74,'NOVATOS E INTERMEDIOS'!$B$3:$C$103,2,FALSE)","v":"DAIGORO"},{"$f":"VLOOKUP(CF74,'NOVATOS E INTERMEDIOS'!$C$3:$CD$103,2,FALSE)","v":{"v":5.99999745,"d":"6"}}]
[-7.3E-7,90,"SCORPIUS",{"v":1.99994525,"d":"2"},0,2,0,0,0,0,0,0,0,0,0,0,0,0,0,0,0,0,0,0,0,0,0,0,0,0,0,0,0,0,0,0,0,0,0,0,0,0,0,0,{"$nulls":37},2,73,{"$f":"VLOOKUP(CE75,'NOVATOS E INTERMEDIOS'!$B$3:$C$103,2,FALSE)","v":"FRANG"},{"$f":"VLOOKUP(CF75,'NOVATOS E INTERMEDIOS'!$C$3:$CD$103,2,FALSE)","v":{"v":5.99999272,"d":"6"}}]
[-7.4e-07,11,"SEUL",{"v":136.99994376,"d":"137"},10,40,5,0,0,0,0,3,0,0,7,0,0,0,0,0,0,0,5,32,5,5,0,0,0,0,0,0,0,0,0,0,0,0,0,0,0,20,0,5,{"$nulls":37},137,74,{"$f":"VLOOKUP(CE76,'NOVATOS E INTERMEDIOS'!$B$3:$C$103,2,FALSE)","v":"JI DO KWAN "},{"$f":"VLOOKUP(CF76,'NOVATOS E INTERMEDIOS'!$C$3:$CD$103,2,FALSE)","v":{"v":5.99998557,"d":"6"}}]
[-7.5e-07,38,"SHOGUN",{"v":40.99994225,"d":"41"},0,6,5,0,0,0,0,0,0,0,0,0,0,0,7,0,0,0,0,6,5,5,0,0,0,0,0,0,0,0,7,0,0,0,0,0,0,0,0,0,{"$nulls":37},41,75,{"$f":"VLOOKUP(CE77,'NOVATOS E INTERMEDIOS'!$B$3:$C$103,2,FALSE)","v":"JR SPORT"},{"$f":"VLOOKUP(CF77,'NOVATOS E INTERMEDIOS'!$C$3:$CD$103,2,FALSE)","v":{"v":5.99998401,"d":"6"}}]
[-7.6e-07,48,"SIM JANG TEAM",{"v":26.99994072,"d":"27"},0,8,5,0,0,0,0,0,0,0,0,3,0,0,0,0,0,0,0,0,0,5,0,0,0,0,0,0,0,0,0,0,0,0,0,0,0,6,0,0,{"$nulls":37},27,76,{"$f":"VLOOKUP(CE78,'NOVATOS E INTERMEDIOS'!$B$3:$C$103,2,FALSE)","v":"LITHE BODY"},{"$f":"VLOOKUP(CF78,'NOVATOS E INTERMEDIOS'!$C$3:$CD$103,2,FALSE)","v":{"v":5.999974,"d":"6"}}]
[-7.7e-07,22,"SURYUN",{"v":84.99993917,"d":"85"},0,14,5,0,0,0,0,0,0,0,0,0,0,0,0,0,0,0,0,0,5,0,0,0,0,0,0,0,0,0,0,0,1,1,25,20,14,0,0,0,{"$nulls":37},85,77,{"$f":"VLOOKUP(CE79,'NOVATOS E INTERMEDIOS'!$B$3:$C$103,2,FALSE)","v":"MIT-TKD"},{"$f":"VLOOKUP(CF79,'NOVATOS E INTERMEDIOS'!$C$3:$CD$103,2,FALSE)","v":{"v":4.99996401,"d":"5"}}]
[-7.8e-07,54,"TAE BAEK ECUADOR ",{"v":20.9999376,"d":"21"},0,10,0,0,0,0,0,0,0,0,0,0,0,0,0,0,0,0,5,0,0,0,0,0,0,0,0,0,0,0,0,0,0,0,0,0,0,6,0,0,{"$nulls":37},21,78,{"$f":"VLOOKUP(CE80,'NOVATOS E INTERMEDIOS'!$B$3:$C$103,2,FALSE)","v":"CONDOR"},{"$f":"VLOOKUP(CF80,'NOVATOS E INTERMEDIOS'!$C$3:$CD$103,2,FALSE)","v":{"v":3.99999901,"d":"4"}}]
[-7.9e-07,28,"TAE BAEK ECUADOR JR",{"v":58.99993601,"d":"59"},0,24,5,0,0,0,20,0,0,0,0,0,0,0,0,0,0,0,5,0,0,5,0,0,0,0,0,0,0,0,0,0,0,0,0,0,0,0,0,0,{"$nulls":37},59,79,{"$f":"VLOOKUP(CE81,'NOVATOS E INTERMEDIOS'!$B$3:$C$103,2,FALSE)","v":"MICHAY DO"},{"$f":"VLOOKUP(CF81,'NOVATOS E INTERMEDIOS'!$C$3:$CD$103,2,FALSE)","v":{"v":3.99996637,"d":"4"}}]
[-8e-07,82,"TAE KINGS",{"v":3.9999344,"d":"4"},4,0,0,0,0,0,0,0,0,0,0,0,0,0,0,0,0,0,0,0,0,0,0,0,0,0,0,0,0,0,0,0,0,0,0,0,0,0,0,0,{"$nulls":37},4,80,{"$f":"VLOOKUP(CE82,'NOVATOS E INTERMEDIOS'!$B$3:$C$103,2,FALSE)","v":"PIONEROS MEJIA"},{"$f":"VLOOKUP(CF82,'NOVATOS E INTERMEDIOS'!$C$3:$CD$103,2,FALSE)","v":{"v":3.99995905,"d":"4"}}]
[-8.1e-07,30,"TAE SHO KU",{"v":55.99993277,"d":"56"},4,12,5,0,0,0,0,0,0,0,0,0,0,0,0,0,0,0,0,0,0,5,0,0,0,0,0,0,3,0,0,0,0,0,0,0,0,22,0,5,{"$nulls":37},56,81,{"$f":"VLOOKUP(CE83,'NOVATOS E INTERMEDIOS'!$B$3:$C$103,2,FALSE)","v":"RENACER"},{"$f":"VLOOKUP(CF83,'NOVATOS E INTERMEDIOS'!$C$3:$CD$103,2,FALSE)","v":{"v":3.99995377,"d":"4"}}]
[-8.2e-07,65,"TAE DO ACADEMY",{"v":12.99993112,"d":"13"},0,10,0,0,0,0,0,0,0,1,0,0,0,0,0,0,0,0,0,0,0,0,0,0,0,0,0,0,0,0,0,0,0,0,0,0,0,2,0,0,{"$nulls":37},13,82,{"$f":"VLOOKUP(CE84,'NOVATOS E INTERMEDIOS'!$B$3:$C$103,2,FALSE)","v":"TAE KINGS"},{"$f":"VLOOKUP(CF84,'NOVATOS E INTERMEDIOS'!$C$3:$CD$103,2,FALSE)","v":{"v":3.9999344,"d":"4"}}]
[-8.3e-07,17,"TAEKWONDO TRAINING CENTER",{"v":108.99992945,"d":"109"},0,34,5,11,0,0,0,0,20,0,0,0,0,0,0,0,0,0,0,0,0,5,0,0,14,0,0,0,0,20,0,0,0,0,0,0,0,0,0,0,{"$nulls":37},109,83,{"$f":"VLOOKUP(CE85,'NOVATOS E INTERMEDIOS'!$B$3:$C$103,2,FALSE)","v":"TAEKWONDO JITAE"},{"$f":"VLOOKUP(CF85,'NOVATOS E INTERMEDIOS'!$C$3:$CD$103,2,FALSE)","v":{"v":3.99992776,"d":"4"}}]
[-8.4E-7,83,"TAEKWONDO JITAE",{"v":3.99992776,"d":"4"},0,0,0,0,0,0,0,0,0,0,0,0,0,0,0,0,0,0,0,0,0,0,0,0,0,0,0,0,0,0,0,0,0,0,0,0,0,4,0,0,{"$nulls":37},4,84,{"$f":"VLOOKUP(CE86,'NOVATOS E INTERMEDIOS'!$B$3:$C$103,2,FALSE)","v":"TEKKEN"},{"$f":"VLOOKUP(CF86,'NOVATOS E INTERMEDIOS'!$C$3:$CD$103,2,FALSE)","v":{"v":3.99991901,"d":"4"}}]
[-8.5e-07,52,"TAEKWONDO JUCARO",{"v":21.99992605,"d":"22"},0,4,0,0,0,0,0,0,0,0,0,0,0,0,0,0,0,0,0,0,0,0,0,0,0,0,0,0,0,0,0,0,0,0,0,14,0,4,0,0,{"$nulls":37},22,85,{"$f":"VLOOKUP(CE87,'NOVATOS E INTERMEDIOS'!$B$3:$C$103,2,FALSE)","v":"CLUB MIKIDO"},{"$f":"VLOOKUP(CF87,'NOVATOS E INTERMEDIOS'!$C$3:$CD$103,2,FALSE)","v":{"v":1.9999988,"d":"2"}}]
[-8.6e-07,39,"TAE WOONG",{"v":38.99992432,"d":"39"},0,8,5,0,0,0,0,0,0,7,0,0,0,0,0,0,0,0,0,0,5,5,0,0,0,0,0,0,0,0,0,0,0,0,0,0,0,4,0,5,{"$nulls":37},39,86,{"$f":"VLOOKUP(CE88,'NOVATOS E INTERMEDIOS'!$B$3:$C$103,2,FALSE)","v":"DRAGON LEE GYM"},{"$f":"VLOOKUP(CF88,'NOVATOS E INTERMEDIOS'!$C$3:$CD$103,2,FALSE)","v":{"v":1.99999517,"d":"2"}}]
[-8.7e-07,91,"TEAM TAUROS TAEKWONDO",{"v":1.99992257,"d":"2"},0,2,0,0,0,0,0,0,0,0,0,0,0,0,0,0,0,0,0,0,0,0,0,0,0,0,0,0,0,0,0,0,0,0,0,0,0,0,0,0,{"$nulls":37},2,87,{"$f":"VLOOKUP(CE89,'NOVATOS E INTERMEDIOS'!$B$3:$C$103,2,FALSE)","v":"LOBOS"},{"$f":"VLOOKUP(CF89,'NOVATOS E INTERMEDIOS'!$C$3:$CD$103,2,FALSE)","v":{"v":1.99997297,"d":"2"}}]
[-8.8e-07,64,"TEAM VENCEDORES",{"v":13.9999208,"d":"14"},0,6,0,0,0,0,0,0,0,0,0,0,0,0,0,0,0,0,0,0,0,0,0,0,0,0,0,0,0,0,0,0,0,0,0,0,0,8,0,0,{"$nulls":37},14,88,{"$f":"VLOOKUP(CE90,'NOVATOS E INTERMEDIOS'!$B$3:$C$103,2,FALSE)","v":"MILENIUM"},{"$f":"VLOOKUP(CF90,'NOVATOS E INTERMEDIOS'!$C$3:$CD$103,2,FALSE)","v":{"v":1.99996752,"d":"2"}}]
[-8.9e-07,84,"TEKKEN",{"v":3.99991901,"d":"4"},0,4,0,0,0,0,0,0,0,0,0,0,0,0,0,0,0,0,0,0,0,0,0,0,0,0,0,0,0,0,0,0,0,0,0,0,0,0,0,0,{"$nulls":37},4,89,{"$f":"VLOOKUP(CE91,'NOVATOS E INTERMEDIOS'!$B$3:$C$103,2,FALSE)","v":"RED TANAKA"},{"$f":"VLOOKUP(CF91,'NOVATOS E INTERMEDIOS'!$C$3:$CD$103,2,FALSE)","v":{"v":1.99995512,"d":"2"}}]
[-9e-07,6,"TOTAL KOMBAT",{"v":190.9999172,"d":"191"},0,32,5,0,0,0,0,0,0,0,3,20,1,0,1,3,0,0,5,22,5,5,0,0,3,0,0,0,0,0,20,20,0,7,0,0,0,14,25,0,{"$nulls":37},191,90,{"$f":"VLOOKUP(CE92,'NOVATOS E INTERMEDIOS'!$B$3:$C$103,2,FALSE)","v":"SCORPIUS"},{"$f":"VLOOKUP(CF92,'NOVATOS E INTERMEDIOS'!$C$3:$CD$103,2,FALSE)","v":{"v":1.99994525,"d":"2"}}]
[-9.1e-07,71,"U SAN FRANCISCO USFQ",{"v":6.99991537,"d":"7"},0,2,5,0,0,0,0,0,0,0,0,0,0,0,0,0,0,0,0,0,0,0,0,0,0,0,0,0,0,0,0,0,0,0,0,0,0,0,0,0,{"$nulls":37},7,91,{"$f":"VLOOKUP(CE93,'NOVATOS E INTERMEDIOS'!$B$3:$C$103,2,FALSE)","v":"TEAM TAUROS TAEKWONDO"},{"$f":"VLOOKUP(CF93,'NOVATOS E INTERMEDIOS'!$C$3:$CD$103,2,FALSE)","v":{"v":1.99992257,"d":"2"}}]
[-9.2e-07,92,"UNIVERSAL",{"v":1.99991352,"d":"2"},0,2,0,0,0,0,0,0,0,0,0,0,0,0,0,0,0,0,0,0,0,0,0,0,0,0,0,0,0,0,0,0,0,0,0,0,0,0,0,0,{"$nulls":37},2,92,{"$f":"VLOOKUP(CE94,'NOVATOS E INTERMEDIOS'!$B$3:$C$103,2,FALSE)","v":"UNIVERSAL"},{"$f":"VLOOKUP(CF94,'NOVATOS E INTERMEDIOS'!$C$3:$CD$103,2,FALSE)","v":{"v":1.99991352,"d":"2"}}]
[-9.3e-07,59,"UNIVERSIDAD CENTRAL (CAMU)",{"v":16.99991165,"d":"17"},0,12,5,0,0,0,0,0,0,0,0,0,0,0,0,0,0,0,0,0,0,0,0,0,0,0,0,0,0,0,0,0,0,0,0,0,0,0,0,0,{"$nulls":37},17,93,{"$f":"VLOOKUP(CE95,'NOVATOS E INTERMEDIOS'!$B$3:$C$103,2,FALSE)","v":"VEMON"},{"$f":"VLOOKUP(CF95,'NOVATOS E INTERMEDIOS'!$C$3:$CD$103,2,FALSE)","v":{"v":1.99990397,"d":"2"}}]
[-9.4E-7,98,"UNIVERSIDAD  HIMISFERIOS",{"v":-9.024e-05,"d":"-0"},0,0,0,0,0,0,0,0,0,0,0,0,0,0,0,0,0,0,0,0,0,0,0,0,0,0,0,0,0,0,0,0,0,0,0,0,0,0,0,0,{"$nulls":37},0,94,{"$f":"VLOOKUP(CE96,'NOVATOS E INTERMEDIOS'!$B$3:$C$103,2,FALSE)","v":"VILL GYM"},{"$f":"VLOOKUP(CF96,'NOVATOS E INTERMEDIOS'!$C$3:$CD$103,2,FALSE)","v":{"v":1.999902,"d":"2"}}]
[-9.5e-07,60,"UNIVERSIDAD UTE",{"v":16.99990785,"d":"17"},0,0,5,0,0,0,1,0,0,0,0,0,0,0,0,0,0,0,0,0,5,0,0,0,0,0,0,0,0,0,0,3,0,0,0,0,3,0,0,0,{"$nulls":37},17,95,{"$f":"VLOOKUP(CE97,'NOVATOS E INTERMEDIOS'!$B$3:$C$103,2,FALSE)","v":"CHEN HUU"},{"$f":"VLOOKUP(CF97,'NOVATOS E INTERMEDIOS'!$C$3:$CD$103,2,FALSE)","v":{"v":-1.43e-06,"d":"-0"}}]
[-9.6e-07,99,"VALLE",{"$f":"CD98+A98*ROW()","v":{"v":-9.408e-05,"d":"-0"}},0,0,0,0,0,0,0,0,0,0,0,0,0,0,0,0,0,0,0,0,0,0,0,0,0,0,0,0,0,0,0,0,0,0,0,0,0,0,0,0,{"$nulls":37},0,96,{"$f":"VLOOKUP(CE98,'NOVATOS E INTERMEDIOS'!$B$3:$C$103,2,FALSE)","v":"GOYANG - IDEUL"},{"$f":"VLOOKUP(CF98,'NOVATOS E INTERMEDIOS'!$C$3:$CD$103,2,FALSE)","v":{"v":-1.023E-5,"d":"-0"}}]
[-9.7e-07,93,"VEMON",{"v":1.99990397,"d":"2"},0,2,0,0,0,0,0,0,0,0,0,0,0,0,0,0,0,0,0,0,0,0,0,0,0,0,0,0,0,0,0,0,0,0,0,0,0,0,0,0,{"$nulls":37},{"$f":"SUM(E99:CC99)","v":2},97,{"$f":"VLOOKUP(CE99,'NOVATOS E INTERMEDIOS'!$B$3:$C$103,2,FALSE)","v":"RIONG TAE"},{"$f":"VLOOKUP(CF99,'NOVATOS E INTERMEDIOS'!$C$3:$CD$103,2,FALSE)","v":{"v":-4.76e-05,"d":"-0"}}]
[-9.8e-07,94,"VILL GYM",{"v":1.999902,"d":"2"},0,2,0,0,0,0,0,0,0,0,0,0,0,0,0,0,0,0,0,0,0,0,0,0,0,0,0,0,0,0,0,0,0,0,0,0,0,0,0,0,{"$nulls":37},2,98,{"$f":"VLOOKUP(CE100,'NOVATOS E INTERMEDIOS'!$B$3:$C$103,2,FALSE)","v":"UNIVERSIDAD  HIMISFERIOS"},{"$f":"VLOOKUP(CF100,'NOVATOS E INTERMEDIOS'!$C$3:$CD$103,2,FALSE)","v":{"v":-9.024e-05,"d":"-0"}}]
[-9.9e-07,49,"YONG TIGER",{"v":24.99990001,"d":"25"},0,6,5,0,0,0,0,0,0,0,0,0,0,0,0,0,0,0,5,0,0,0,0,0,0,0,0,7,0,0,0,0,0,0,0,0,0,2,0,0,{"$nulls":37},25,99,{"$f":"VLOOKUP(CE101,'NOVATOS E INTERMEDIOS'!$B$3:$C$103,2,FALSE)","v":"VALLE"},{"$f":"VLOOKUP(CF101,'NOVATOS E INTERMEDIOS'!$C$3:$CD$103,2,FALSE)","v":{"v":-9.408e-05,"d":"-0"}}]
[-1e-06,100,null,{"v":-1.02E-4,"d":"-0"},{"$nulls":77},{"$f":"SUM(E102:CC102)","v":0},100,{"$f":"VLOOKUP(CE102,'NOVATOS E INTERMEDIOS'!$B$3:$C$103,2,FALSE)","v":0},{"$f":"VLOOKUP(CF102,'NOVATOS E INTERMEDIOS'!$C$3:$CD$103,2,FALSE)","v":{"$error":"#N/A"}}]
[-1.01e-06,101,null,{"v":-0.00010403,"d":"-0"},{"$nulls":77},0,101,{"$f":"VLOOKUP(CE103,'NOVATOS E INTERMEDIOS'!$B$3:$C$103,2,FALSE)","v":0},{"$f":"VLOOKUP(CF103,'NOVATOS E INTERMEDIOS'!$C$3:$CD$103,2,FALSE)","v":{"$error":"#N/A"}}]
[null,{"$error":"#N/A"},{"$nulls":79},0]
[{"$nulls":81},0]
[{"$nulls":81},0]
[{"$nulls":81},0]

{"sheet":"CLASIFICADOS","index":1,"n_rows":103,"n_cols":52,"rows_kept":103}
[null,null,"PUNTUACION MEJORES CLUBES 2025 CLASIFICADOS"]
[null,null,"CLUB",null,"USA. OPEN CHAMPIONS 14-16 FEBRERO 2025 COMBATE G2","USA. OPEN CHAMPIONS 14-16 FEBRERO 2025 POOMSAE G2","ECUADOR SERIES PORTOVIEJO 20-23 DE FEBRERO 2025 COMBATE CLASIFICADOS","ECUADOR SERIES PORTOVIEJO 20-23 DE FEBRERO 2025 POOMSAE CLASIFICADOS","CAMPEONATO NACIONAL CADETES PORTOVIEJO DEL 14-16 DE MARZO DEL 2025","CAMPEONATO NACIONAL JUNIOR PORTOVIEJO DEL 28-30 DE MARZO DEL 2025","CAMPEONATO PANAMERICANO QUERETARO DEL 3-6 DE ABRIL DEL 2025","PANAM SERIES QUERATARO DEL 3-6 DE ABRIL DEL 2025 POOMSAE","PANAM SERIES QUERATARO DEL 3-6 DE ABRIL DEL 2025 COMBATE"," OPEN PANAMERICANO QUERETARO DEL 3-6 DE ABRIL DEL 2025 POOMSAE G1","CAMPEONATO NACIONAL JUVENIL U22  LOJA  DEL 02-04 DE MAYO DEL 2025","CAMPEONATO MUNDIAL DE CATES DUBAI 09-11 DE MAYO DEL 2025","COPA COREA QUITO 17 DE MAYO DEL 2025 CATEGORIA AVANZADOS","JUEGOS MUNDIALES MASTER CHINA TIAPIE 24-28 DE MAYO DEL 2025 COMBATE","JUEGOS MUNDIALES MASTER CHINA TIAPIE 24-28 DE MAYO DEL 2025 POOMSAE","CAMPEONATO NACIONAL INFANTIL QUITO DEL 14-16 DE JUNIO DEL 2025","JUEGOS NACIONALES CICLO JUVENIL PORTOVIEJO 28 DE JUNIO AL 02 DE JULIO DEL 2025","JUEGOS PANAMERICANOS PARAGUAY DEL 15 AL 17 DE AGOSTO","ECUADOR CHALLENGER QUITO 12 AL 14 DE SEPTIEMBRE DEL 2025","PRESIDENT CUP LIMA- PERU 04 AL 07 DE SEPTIEMBRE DEL 2025",{"$nulls":24},"PUNTAJE TOTAL","UBICACIÓN","CLUB","PUNTAJE"]
[-1E-8,{"$f":"_xlfn.RANK.AVG(D3,$D$3:$D$103,0)","v":44},"APOLO",{"$f":"AW3+A3*ROW()","v":{"v":-3.0000000000000004E-8,"d":"-0"}},0,0,0,0,0,0,0,0,0,0,0,0,0,0,0,0,0,0,{"$nulls":26},{"$f":"SUM(E3:AV3)","v":0},1,{"$f":"VLOOKUP(AX3,CLASIFICADOS!$B$3:$C$103,2,FALSE)","v":"SEUL"},{"$f":"VLOOKUP(AY3,CLASIFICADOS!$C$3:$AW$103,2,FALSE)","v":{"v":171.99994525,"d":"172"}}]
[-2E-8,24,"ARES",{"v":15.99999992,"d":"16"},0,0,2,0,10,0,0,0,0,0,0,0,4,0,0,0,0,0,{"$nulls":26},16,{"$f":"AX3+1","v":2},{"$f":"VLOOKUP(AX4,CLASIFICADOS!$B$3:$C$103,2,FALSE)","v":"DEBAK TKD"},{"$f":"VLOOKUP(AY4,CLASIFICADOS!$C$3:$AW$103,2,FALSE)","v":{"v":161.99999712,"d":"162"}}]
[-3e-08,45,"ATLAS CLUB",{"v":-1.5e-07,"d":"-0"},0,0,0,0,0,0,0,0,0,0,0,0,0,0,0,0,0,0,{"$nulls":26},0,3,{"$f":"VLOOKUP(AX5,CLASIFICADOS!$B$3:$C$103,2,FALSE)","v":"MERCENARIOS"},{"$f":"VLOOKUP(AY5,CLASIFICADOS!$C$3:$AW$103,2,FALSE)","v":{"v":125.99996976,"d":"126"}}]
[-4e-08,14,"BAEKJUL BG",{"v":35.99999976,"d":"36"},0,0,18,0,8,0,0,0,0,0,0,0,4,0,0,6,0,0,{"$nulls":26},36,4,{"$f":"VLOOKUP(AX6,CLASIFICADOS!$B$3:$C$103,2,FALSE)","v":"DECIAP"},{"$f":"VLOOKUP(AY6,CLASIFICADOS!$C$3:$AW$103,2,FALSE)","v":{"v":113.99999677,"d":"114"}}]
[-5e-08,12,"BAS PANTHER",{"v":40.99999965,"d":"41"},0,0,8,2,15,8,0,0,0,0,0,0,2,0,0,6,0,0,{"$nulls":26},41,5,{"$f":"VLOOKUP(AX7,CLASIFICADOS!$B$3:$C$103,2,FALSE)","v":"S.D.CENTRAL"},{"$f":"VLOOKUP(AY7,CLASIFICADOS!$C$3:$AW$103,2,FALSE)","v":{"v":110.99995101,"d":"111"}}]
[-6e-08,7,"BORJA´S LIONS",{"v":87.99999952,"d":"88"},0,0,2,0,16,30,0,0,0,0,0,0,6,0,0,34,0,0,{"$nulls":26},88,6,{"$f":"VLOOKUP(AX8,CLASIFICADOS!$B$3:$C$103,2,FALSE)","v":"KORYO"},{"$f":"VLOOKUP(AY8,CLASIFICADOS!$C$3:$AW$103,2,FALSE)","v":{"v":91.99998065,"d":"92"}}]
[-7e-08,46,"BLUE DRAGONS",{"v":-6.3E-7,"d":"-0"},0,0,0,0,0,0,0,0,0,0,0,0,0,0,0,0,0,0,{"$nulls":26},0,7,{"$f":"VLOOKUP(AX9,CLASIFICADOS!$B$3:$C$103,2,FALSE)","v":"BORJA´S LIONS"},{"$f":"VLOOKUP(AY9,CLASIFICADOS!$C$3:$AW$103,2,FALSE)","v":{"v":87.99999952,"d":"88"}}]
[-8e-08,47,"CIUDAD DE QUITO",{"v":-8e-07,"d":"-0"},0,0,0,0,0,0,0,0,0,0,0,0,0,0,0,0,0,0,{"$nulls":26},0,8,{"$f":"VLOOKUP(AX10,CLASIFICADOS!$B$3:$C$103,2,FALSE)","v":"HAN SU"},{"$f":"VLOOKUP(AY10,CLASIFICADOS!$C$3:$AW$103,2,FALSE)","v":{"v":55.99998912,"d":"56"}}]
[-9e-08,48,"CONDOR",{"v":-9.9e-07,"d":"-0"},0,0,0,0,0,0,0,0,0,0,0,0,0,0,0,0,0,0,{"$nulls":26},0,9,{"$f":"VLOOKUP(AX11,CLASIFICADOS!$B$3:$C$103,2,FALSE)","v":"DRACO"},{"$f":"VLOOKUP(AY11,CLASIFICADOS!$C$3:$AW$103,2,FALSE)","v":{"v":54.99999601,"d":"55"}}]
[-1e-07,49,"CLUB MIKIDO",{"v":-1.2e-06,"d":"-0"},0,0,0,0,0,0,0,0,0,0,0,0,0,0,0,0,0,0,{"$nulls":26},0,10,{"$f":"VLOOKUP(AX12,CLASIFICADOS!$B$3:$C$103,2,FALSE)","v":"YONG TIGER"},{"$f":"VLOOKUP(AY12,CLASIFICADOS!$C$3:$AW$103,2,FALSE)","v":{"v":54.99990397,"d":"55"}}]
[-1.1e-07,50,"CHEN HUU",{"v":-1.43e-06,"d":"-0"},0,0,0,0,0,0,0,0,0,0,0,0,0,0,0,0,0,0,{"$nulls":26},0,11,{"$f":"VLOOKUP(AX13,CLASIFICADOS!$B$3:$C$103,2,FALSE)","v":"KO AMERICA"},{"$f":"VLOOKUP(AY13,CLASIFICADOS!$C$3:$AW$103,2,FALSE)","v":{"v":42.99998237,"d":"43"}}]
[-1.2e-07,51,"CHONKWON",{"v":-1.6799999999999998E-6,"d":"-0"},0,0,0,0,0,0,0,0,0,0,0,0,0,0,0,0,0,0,{"$nulls":26},0,12,{"$f":"VLOOKUP(AX14,CLASIFICADOS!$B$3:$C$103,2,FALSE)","v":"BAS PANTHER"},{"$f":"VLOOKUP(AY14,CLASIFICADOS!$C$3:$AW$103,2,FALSE)","v":{"v":40.99999965,"d":"41"}}]
[-1.3E-7,52,"CHUNG SONG",{"v":-1.95E-6,"d":"-0"},0,0,0,0,0,0,0,0,0,0,0,0,0,0,0,0,0,0,{"$nulls":26},0,13,{"$f":"VLOOKUP(AX15,CLASIFICADOS!$B$3:$C$103,2,FALSE)","v":"TAEKWONDO TRAINING CENTER"},{"$f":"VLOOKUP(AY15,CLASIFICADOS!$C$3:$AW$103,2,FALSE)","v":{"v":37.99993112,"d":"38"}}]
[-1.4e-07,20,"CHAMPIONS FOR LIFE",{"v":21.99999776,"d":"22"},0,0,0,0,0,0,0,0,0,0,10,0,0,0,0,0,12,0,{"$nulls":26},22,14,{"$f":"VLOOKUP(AX16,CLASIFICADOS!$B$3:$C$103,2,FALSE)","v":"BAEKJUL BG"},{"$f":"VLOOKUP(AY16,CLASIFICADOS!$C$3:$AW$103,2,FALSE)","v":{"v":35.99999976,"d":"36"}}]
[-1.5e-07,35,"DAIGORO",{"v":1.99999745,"d":"2"},0,0,0,0,0,0,0,0,0,0,0,0,2,0,0,0,0,0,{"$nulls":26},2,15,{"$f":"VLOOKUP(AX17,CLASIFICADOS!$B$3:$C$103,2,FALSE)","v":"ILYOP MP"},{"$f":"VLOOKUP(AY17,CLASIFICADOS!$C$3:$AW$103,2,FALSE)","v":{"v":35.99998705,"d":"36"}}]
[-1.6E-7,2,"DEBAK TKD",{"v":161.99999712,"d":"162"},0,6,10,14,0,0,0,0,0,17,8,0,10,0,85,12,0,0,{"$nulls":26},162,16,{"$f":"VLOOKUP(AX18,CLASIFICADOS!$B$3:$C$103,2,FALSE)","v":"ROJAS  IRON FIRST"},{"$f":"VLOOKUP(AY18,CLASIFICADOS!$C$3:$AW$103,2,FALSE)","v":{"v":35.9999524,"d":"36"}}]
[-1.7e-07,4,"DECIAP",{"v":113.99999677,"d":"114"},0,0,4,6,14,8,12,0,3,0,7,30,2,0,0,6,12,10,{"$nulls":26},114,17,{"$f":"VLOOKUP(AX19,CLASIFICADOS!$B$3:$C$103,2,FALSE)","v":"TAE SHO KU"},{"$f":"VLOOKUP(AY19,CLASIFICADOS!$C$3:$AW$103,2,FALSE)","v":{"v":26.9999344,"d":"27"}}]
[-1.8E-7,36,"DOJAN TAEKWONDO MELO",{"v":1.9999964,"d":"2"},0,0,0,2,0,0,0,0,0,0,0,0,0,0,0,0,0,0,{"$nulls":26},2,18,{"$f":"VLOOKUP(AX20,CLASIFICADOS!$B$3:$C$103,2,FALSE)","v":"ECUACUBA"},{"$f":"VLOOKUP(AY20,CLASIFICADOS!$C$3:$AW$103,2,FALSE)","v":{"v":25.99999472,"d":"26"}}]
[-1.9e-07,9,"DRACO",{"v":54.99999601,"d":"55"},0,0,8,0,0,19,0,0,0,0,0,0,4,0,0,24,0,0,{"$nulls":26},55,19,{"$f":"VLOOKUP(AX21,CLASIFICADOS!$B$3:$C$103,2,FALSE)","v":"SIM JANG TEAM"},{"$f":"VLOOKUP(AY21,CLASIFICADOS!$C$3:$AW$103,2,FALSE)","v":{"v":25.99994225,"d":"26"}}]
[-2e-07,53,"DRAGON GYM",{"v":-4.4e-06,"d":"-0"},0,0,0,0,0,0,0,0,0,0,0,0,0,0,0,0,0,0,{"$nulls":26},0,20,{"$f":"VLOOKUP(AX22,CLASIFICADOS!$B$3:$C$103,2,FALSE)","v":"CHAMPIONS FOR LIFE"},{"$f":"VLOOKUP(AY22,CLASIFICADOS!$C$3:$AW$103,2,FALSE)","v":{"v":21.99999776,"d":"22"}}]
[-2.1E-7,54,"DRAGON LEE GYM",{"v":-4.83e-06,"d":"-0"},0,0,0,0,0,0,0,0,0,0,0,0,0,0,0,0,0,0,{"$nulls":26},0,21,{"$f":"VLOOKUP(AX23,CLASIFICADOS!$B$3:$C$103,2,FALSE)","v":"LIGA CANTONAL MEJIA"},{"$f":"VLOOKUP(AY23,CLASIFICADOS!$C$3:$AW$103,2,FALSE)","v":{"v":19.999976,"d":"20"}}]
[-2.2e-07,18,"ECUACUBA",{"v":25.99999472,"d":"26"},0,0,0,0,7,0,0,0,0,0,0,0,2,0,0,17,0,0,{"$nulls":26},26,22,{"$f":"VLOOKUP(AX24,CLASIFICADOS!$B$3:$C$103,2,FALSE)","v":"TAE DO ACADEMY"},{"$f":"VLOOKUP(AY24,CLASIFICADOS!$C$3:$AW$103,2,FALSE)","v":{"v":19.99993277,"d":"20"}}]
[-2.3e-07,55,"ECUADOR",{"v":-5.75E-6,"d":"-0"},0,0,0,0,0,0,0,0,0,0,0,0,0,0,0,0,0,0,{"$nulls":26},0,23,{"$f":"VLOOKUP(AX25,CLASIFICADOS!$B$3:$C$103,2,FALSE)","v":"KUNGAN DUL"},{"$f":"VLOOKUP(AY25,CLASIFICADOS!$C$3:$AW$103,2,FALSE)","v":{"v":17.99997885,"d":"18"}}]
[-2.4e-07,56,"EQUILIBRIO",{"v":-6.2399999999999995E-6,"d":"-0"},0,0,0,0,0,0,0,0,0,0,0,0,0,0,0,0,0,0,{"$nulls":26},0,24,{"$f":"VLOOKUP(AX26,CLASIFICADOS!$B$3:$C$103,2,FALSE)","v":"ARES"},{"$f":"VLOOKUP(AY26,CLASIFICADOS!$C$3:$AW$103,2,FALSE)","v":{"v":15.99999992,"d":"16"}}]
[-2.5e-07,57,"ESPE",{"v":-6.75e-06,"d":"-0"},0,0,0,0,0,0,0,0,0,0,0,0,0,0,0,0,0,0,{"$nulls":26},0,25,{"$f":"VLOOKUP(AX27,CLASIFICADOS!$B$3:$C$103,2,FALSE)","v":"LOS PUMAS"},{"$f":"VLOOKUP(AY27,CLASIFICADOS!$C$3:$AW$103,2,FALSE)","v":{"v":12.99997297,"d":"13"}}]
[-2.6E-7,37,"FRANG",{"v":1.99999272,"d":"2"},0,0,0,0,0,0,0,0,0,0,0,0,2,0,0,0,0,0,{"$nulls":26},2,26,{"$f":"VLOOKUP(AX28,CLASIFICADOS!$B$3:$C$103,2,FALSE)","v":"FIRST CLASS CALDERON"},{"$f":"VLOOKUP(AY28,CLASIFICADOS!$C$3:$AW$103,2,FALSE)","v":{"v":11.9999916,"d":"12"}}]
[-2.7e-07,58,"FIT KWON DO",{"v":-7.83e-06,"d":"-0"},0,0,0,0,0,0,0,0,0,0,0,0,0,0,0,0,0,0,{"$nulls":26},0,27,{"$f":"VLOOKUP(AX29,CLASIFICADOS!$B$3:$C$103,2,FALSE)","v":"JI DO KWAN "},{"$f":"VLOOKUP(AY29,CLASIFICADOS!$C$3:$AW$103,2,FALSE)","v":{"v":11.99998632,"d":"12"}}]
[-2.8e-07,26,"FIRST CLASS CALDERON",{"v":11.9999916,"d":"12"},0,0,0,0,6,0,0,0,0,0,0,0,6,0,0,0,0,0,{"$nulls":26},12,28,{"$f":"VLOOKUP(AX30,CLASIFICADOS!$B$3:$C$103,2,FALSE)","v":"KYORUGUI GYM"},{"$f":"VLOOKUP(AY30,CLASIFICADOS!$C$3:$AW$103,2,FALSE)","v":{"v":11.99997792,"d":"12"}}]
[-2.9e-07,59,"FURIA NEGRA ",{"v":-8.9899999999999986E-6,"d":"-0"},0,0,0,0,0,0,0,0,0,0,0,0,0,0,0,0,0,0,{"$nulls":26},0,29,{"$f":"VLOOKUP(AX31,CLASIFICADOS!$B$3:$C$103,2,FALSE)","v":"MARCIAL CLUB GRANDA"},{"$f":"VLOOKUP(AY31,CLASIFICADOS!$C$3:$AW$103,2,FALSE)","v":{"v":7.99997085,"d":"8"}}]
[-3e-07,60,"GRAN MASTER",{"v":-9.6e-06,"d":"-0"},0,0,0,0,0,0,0,0,0,0,0,0,0,0,0,0,0,0,{"$nulls":26},0,30,{"$f":"VLOOKUP(AX32,CLASIFICADOS!$B$3:$C$103,2,FALSE)","v":"SHOGUN"},{"$f":"VLOOKUP(AY32,CLASIFICADOS!$C$3:$AW$103,2,FALSE)","v":{"v":7.99994376,"d":"8"}}]
[-3.1E-7,61,"GOYANG - IDEUL",{"v":-1.023E-5,"d":"-0"},0,0,0,0,0,0,0,0,0,0,0,0,0,0,0,0,0,0,{"$nulls":26},0,{"$f":"AX32+1","v":31},{"$f":"VLOOKUP(AX33,CLASIFICADOS!$B$3:$C$103,2,FALSE)","v":"LEON"},{"$f":"VLOOKUP(AY33,CLASIFICADOS!$C$3:$AW$103,2,FALSE)","v":{"v":5.99997697,"d":"6"}}]
[-3.2e-07,8,"HAN SU",{"v":55.99998912,"d":"56"},0,0,2,0,0,0,0,0,0,0,0,0,8,0,0,46,0,0,{"$nulls":26},56,32,{"$f":"VLOOKUP(AX34,CLASIFICADOS!$B$3:$C$103,2,FALSE)","v":"RYONG TAE"},{"$f":"VLOOKUP(AY34,CLASIFICADOS!$C$3:$AW$103,2,FALSE)","v":{"v":5.99995377,"d":"6"}}]
[-3.3e-07,{"$f":"_xlfn.RANK.AVG(D35,$D$3:$D$103,0)","v":62},"HIMCHARI DONJANG",{"$f":"AW35+A35*ROW()","v":{"v":-1.1550000000000001E-5,"d":"-0"}},0,0,0,0,0,0,0,0,0,0,0,0,0,0,0,0,0,0,{"$nulls":26},{"$f":"SUM(E35:AV35)","v":0},33,{"$f":"VLOOKUP(AX35,CLASIFICADOS!$B$3:$C$103,2,FALSE)","v":"SAN SEBASTIAN"},{"$f":"VLOOKUP(AY35,CLASIFICADOS!$C$3:$AW$103,2,FALSE)","v":{"v":5.99994817,"d":"6"}}]
[-3.4e-07,38,"HUAN TOP GYM",{"v":1.99998776,"d":"2"},0,0,2,0,0,0,0,0,0,0,0,0,0,0,0,0,0,0,{"$nulls":26},2,34,{"$f":"VLOOKUP(AX36,CLASIFICADOS!$B$3:$C$103,2,FALSE)","v":"TAE BAEK ECUADOR "},{"$f":"VLOOKUP(AY36,CLASIFICADOS!$C$3:$AW$103,2,FALSE)","v":{"v":5.99993917,"d":"6"}}]
[-3.5e-07,15,"ILYOP MP",{"v":35.99998705,"d":"36"},2,0,4,0,0,0,0,0,0,0,8,0,12,0,0,0,10,0,{"$nulls":26},36,35,{"$f":"VLOOKUP(AX37,CLASIFICADOS!$B$3:$C$103,2,FALSE)","v":"DAIGORO"},{"$f":"VLOOKUP(AY37,CLASIFICADOS!$C$3:$AW$103,2,FALSE)","v":{"v":1.99999745,"d":"2"}}]
[-3.6e-07,27,"JI DO KWAN ",{"v":11.99998632,"d":"12"},0,0,2,0,0,0,0,0,0,0,0,0,0,0,0,10,0,0,{"$nulls":26},12,36,{"$f":"VLOOKUP(AX38,CLASIFICADOS!$B$3:$C$103,2,FALSE)","v":"DOJAN TAEKWONDO MELO"},{"$f":"VLOOKUP(AY38,CLASIFICADOS!$C$3:$AW$103,2,FALSE)","v":{"v":1.9999964,"d":"2"}}]
[-3.7E-7,39,"JOSEON LEGACY",{"v":1.99998557,"d":"2"},0,0,0,0,0,0,0,0,0,0,0,0,2,0,0,0,0,0,{"$nulls":26},2,37,{"$f":"VLOOKUP(AX39,CLASIFICADOS!$B$3:$C$103,2,FALSE)","v":"FRANG"},{"$f":"VLOOKUP(AY39,CLASIFICADOS!$C$3:$AW$103,2,FALSE)","v":{"v":1.99999272,"d":"2"}}]
[-3.8e-07,63,"JR SPORT",{"v":-1.52E-5,"d":"-0"},0,0,0,0,0,0,0,0,0,0,0,0,0,0,0,0,0,0,{"$nulls":26},0,38,{"$f":"VLOOKUP(AX40,CLASIFICADOS!$B$3:$C$103,2,FALSE)","v":"HUAN TOP GYM"},{"$f":"VLOOKUP(AY40,CLASIFICADOS!$C$3:$AW$103,2,FALSE)","v":{"v":1.99998776,"d":"2"}}]
[-3.9e-07,64,"JUVENTUS",{"v":-1.599e-05,"d":"-0"},0,0,0,0,0,0,0,0,0,0,0,0,0,0,0,0,0,0,{"$nulls":26},0,39,{"$f":"VLOOKUP(AX41,CLASIFICADOS!$B$3:$C$103,2,FALSE)","v":"JOSEON LEGACY"},{"$f":"VLOOKUP(AY41,CLASIFICADOS!$C$3:$AW$103,2,FALSE)","v":{"v":1.99998557,"d":"2"}}]
[-4e-07,40,"JERATHEL",{"v":1.9999832,"d":"2"},0,0,0,0,0,0,0,0,0,0,0,0,2,0,0,0,0,0,{"$nulls":26},2,40,{"$f":"VLOOKUP(AX42,CLASIFICADOS!$B$3:$C$103,2,FALSE)","v":"JERATHEL"},{"$f":"VLOOKUP(AY42,CLASIFICADOS!$C$3:$AW$103,2,FALSE)","v":{"v":1.9999832,"d":"2"}}]
[-4.1e-07,11,"KO AMERICA",{"v":42.99998237,"d":"43"},0,0,6,0,0,13,0,0,0,0,14,0,0,0,0,0,10,0,{"$nulls":26},43,41,{"$f":"VLOOKUP(AX43,CLASIFICADOS!$B$3:$C$103,2,FALSE)","v":"SAN FRANCISCO TIGRES"},{"$f":"VLOOKUP(AY43,CLASIFICADOS!$C$3:$AW$103,2,FALSE)","v":{"v":1.9999496,"d":"2"}}]
[-4.2E-7,65,"KOREAN DRAGON",{"v":-1.848e-05,"d":"-0"},0,0,0,0,0,0,0,0,0,0,0,0,0,0,0,0,0,0,{"$nulls":26},0,42,{"$f":"VLOOKUP(AX44,CLASIFICADOS!$B$3:$C$103,2,FALSE)","v":"TAEKWONDO WOONG"},{"$f":"VLOOKUP(AY44,CLASIFICADOS!$C$3:$AW$103,2,FALSE)","v":{"v":1.99992605,"d":"2"}}]
[-4.3e-07,6,"KORYO",{"v":91.99998065,"d":"92"},0,0,0,0,0,0,0,0,0,0,10,0,0,70,0,0,12,0,{"$nulls":26},92,43,{"$f":"VLOOKUP(AX45,CLASIFICADOS!$B$3:$C$103,2,FALSE)","v":"TOTAL KOMBAT"},{"$f":"VLOOKUP(AY45,CLASIFICADOS!$C$3:$AW$103,2,FALSE)","v":{"v":1.99991901,"d":"2"}}]
[-4.4e-07,66,"KUKKIKWON",{"v":-2.0240000000000003E-5,"d":"-0"},0,0,0,0,0,0,0,0,0,0,0,0,0,0,0,0,0,0,{"$nulls":26},0,44,{"$f":"VLOOKUP(AX46,CLASIFICADOS!$B$3:$C$103,2,FALSE)","v":"APOLO"},{"$f":"VLOOKUP(AY46,CLASIFICADOS!$C$3:$AW$103,2,FALSE)","v":{"v":-3.0000000000000004E-8,"d":"-0"}}]
[-4.5e-07,23,"KUNGAN DUL",{"v":17.99997885,"d":"18"},0,0,2,0,0,6,0,0,0,0,0,0,0,0,0,10,0,0,{"$nulls":26},18,45,{"$f":"VLOOKUP(AX47,CLASIFICADOS!$B$3:$C$103,2,FALSE)","v":"ATLAS CLUB"},{"$f":"VLOOKUP(AY47,CLASIFICADOS!$C$3:$AW$103,2,FALSE)","v":{"v":-1.5e-07,"d":"-0"}}]
[-4.6e-07,28,"KYORUGUI GYM",{"v":11.99997792,"d":"12"},0,0,6,0,0,0,0,0,0,0,0,0,0,0,0,6,0,0,{"$nulls":26},12,46,{"$f":"VLOOKUP(AX48,CLASIFICADOS!$B$3:$C$103,2,FALSE)","v":"BLUE DRAGONS"},{"$f":"VLOOKUP(AY48,CLASIFICADOS!$C$3:$AW$103,2,FALSE)","v":{"v":-6.3E-7,"d":"-0"}}]
[-4.7E-7,31,"LEON",{"v":5.99997697,"d":"6"},0,0,0,0,0,0,0,0,0,0,6,0,0,0,0,0,0,0,{"$nulls":26},6,47,{"$f":"VLOOKUP(AX49,CLASIFICADOS!$B$3:$C$103,2,FALSE)","v":"CIUDAD DE QUITO"},{"$f":"VLOOKUP(AY49,CLASIFICADOS!$C$3:$AW$103,2,FALSE)","v":{"v":-8e-07,"d":"-0"}}]
[-4.8e-07,21,"LIGA CANTONAL MEJIA",{"v":19.999976,"d":"20"},0,0,0,0,0,0,0,0,0,0,0,0,0,0,0,20,0,0,{"$nulls":26},20,48,{"$f":"VLOOKUP(AX50,CLASIFICADOS!$B$3:$C$103,2,FALSE)","v":"CONDOR"},{"$f":"VLOOKUP(AY50,CLASIFICADOS!$C$3:$AW$103,2,FALSE)","v":{"v":-9.9e-07,"d":"-0"}}]
[-4.9e-07,67,"LITHE BODY",{"v":-2.499E-5,"d":"-0"},0,0,0,0,0,0,0,0,0,0,0,0,0,0,0,0,0,0,{"$nulls":26},0,49,{"$f":"VLOOKUP(AX51,CLASIFICADOS!$B$3:$C$103,2,FALSE)","v":"CLUB MIKIDO"},{"$f":"VLOOKUP(AY51,CLASIFICADOS!$C$3:$AW$103,2,FALSE)","v":{"v":-1.2e-06,"d":"-0"}}]
[-5e-07,68,"LOBOS",{"v":-2.6e-05,"d":"-0"},0,0,0,0,0,0,0,0,0,0,0,0,0,0,0,0,0,0,{"$nulls":26},0,50,{"$f":"VLOOKUP(AX52,CLASIFICADOS!$B$3:$C$103,2,FALSE)","v":"CHEN HUU"},{"$f":"VLOOKUP(AY52,CLASIFICADOS!$C$3:$AW$103,2,FALSE)","v":{"v":-1.43e-06,"d":"-0"}}]
[-5.1e-07,25,"LOS PUMAS",{"v":12.99997297,"d":"13"},0,0,0,0,0,7,0,0,0,0,0,0,6,0,0,0,0,0,{"$nulls":26},13,51,{"$f":"VLOOKUP(AX53,CLASIFICADOS!$B$3:$C$103,2,FALSE)","v":"CHONKWON"},{"$f":"VLOOKUP(AY53,CLASIFICADOS!$C$3:$AW$103,2,FALSE)","v":{"v":-1.6799999999999998E-6,"d":"-0"}}]
[-5.2E-7,69,"MASTER HOME",{"v":-2.808e-05,"d":"-0"},0,0,0,0,0,0,0,0,0,0,0,0,0,0,0,0,0,0,{"$nulls":26},0,52,{"$f":"VLOOKUP(AX54,CLASIFICADOS!$B$3:$C$103,2,FALSE)","v":"CHUNG SONG"},{"$f":"VLOOKUP(AY54,CLASIFICADOS!$C$3:$AW$103,2,FALSE)","v":{"v":-1.95E-6,"d":"-0"}}]
[-5.3e-07,29,"MARCIAL CLUB GRANDA",{"v":7.99997085,"d":"8"},0,0,0,0,0,0,0,0,0,0,0,0,0,0,0,8,0,0,{"$nulls":26},8,53,{"$f":"VLOOKUP(AX55,CLASIFICADOS!$B$3:$C$103,2,FALSE)","v":"DRAGON GYM"},{"$f":"VLOOKUP(AY55,CLASIFICADOS!$C$3:$AW$103,2,FALSE)","v":{"v":-4.4e-06,"d":"-0"}}]
[-5.4e-07,3,"MERCENARIOS",{"v":125.99996976,"d":"126"},0,0,2,2,23,10,12,0,0,0,0,30,10,0,0,37,0,0,{"$nulls":26},126,54,{"$f":"VLOOKUP(AX56,CLASIFICADOS!$B$3:$C$103,2,FALSE)","v":"DRAGON LEE GYM"},{"$f":"VLOOKUP(AY56,CLASIFICADOS!$C$3:$AW$103,2,FALSE)","v":{"v":-4.83e-06,"d":"-0"}}]
[-5.5e-07,70,"MILENIUM",{"v":-3.135e-05,"d":"-0"},0,0,0,0,0,0,0,0,0,0,0,0,0,0,0,0,0,0,{"$nulls":26},0,55,{"$f":"VLOOKUP(AX57,CLASIFICADOS!$B$3:$C$103,2,FALSE)","v":"ECUADOR"},{"$f":"VLOOKUP(AY57,CLASIFICADOS!$C$3:$AW$103,2,FALSE)","v":{"v":-5.75E-6,"d":"-0"}}]
[-5.6e-07,71,"MICHAY DO",{"v":-3.248e-05,"d":"-0"},0,0,0,0,0,0,0,0,0,0,0,0,0,0,0,0,0,0,{"$nulls":26},0,56,{"$f":"VLOOKUP(AX58,CLASIFICADOS!$B$3:$C$103,2,FALSE)","v":"EQUILIBRIO"},{"$f":"VLOOKUP(AY58,CLASIFICADOS!$C$3:$AW$103,2,FALSE)","v":{"v":-6.2399999999999995E-6,"d":"-0"}}]
[-5.7e-07,72,"MINOTAUROS",{"v":-3.363e-05,"d":"-0"},0,0,0,0,0,0,0,0,0,0,0,0,0,0,0,0,0,0,{"$nulls":26},0,57,{"$f":"VLOOKUP(AX59,CLASIFICADOS!$B$3:$C$103,2,FALSE)","v":"ESPE"},{"$f":"VLOOKUP(AY59,CLASIFICADOS!$C$3:$AW$103,2,FALSE)","v":{"v":-6.75e-06,"d":"-0"}}]
[-5.8e-07,73,"MIT-TKD",{"v":-3.48e-05,"d":"-0"},0,0,0,0,0,0,0,0,0,0,0,0,0,0,0,0,0,0,{"$nulls":26},0,58,{"$f":"VLOOKUP(AX60,CLASIFICADOS!$B$3:$C$103,2,FALSE)","v":"FIT KWON DO"},{"$f":"VLOOKUP(AY60,CLASIFICADOS!$C$3:$AW$103,2,FALSE)","v":{"v":-7.83e-06,"d":"-0"}}]
[-5.9e-07,74,"PALADINES",{"v":-3.599e-05,"d":"-0"},0,0,0,0,0,0,0,0,0,0,0,0,0,0,0,0,0,0,{"$nulls":26},0,59,{"$f":"VLOOKUP(AX61,CLASIFICADOS!$B$3:$C$103,2,FALSE)","v":"FURIA NEGRA "},{"$f":"VLOOKUP(AY61,CLASIFICADOS!$C$3:$AW$103,2,FALSE)","v":{"v":-8.9899999999999986E-6,"d":"-0"}}]
[-6e-07,75,"PANDADEMON",{"v":-3.7199999999999996E-5,"d":"-0"},0,0,0,0,0,0,0,0,0,0,0,0,0,0,0,0,0,0,{"$nulls":26},0,60,{"$f":"VLOOKUP(AX62,CLASIFICADOS!$B$3:$C$103,2,FALSE)","v":"GRAN MASTER"},{"$f":"VLOOKUP(AY62,CLASIFICADOS!$C$3:$AW$103,2,FALSE)","v":{"v":-9.6e-06,"d":"-0"}}]
[-6.1e-07,76,"PIONEROS FORTI",{"v":-3.8429999999999996E-5,"d":"-0"},0,0,0,0,0,0,0,0,0,0,0,0,0,0,0,0,0,0,{"$nulls":26},0,61,{"$f":"VLOOKUP(AX63,CLASIFICADOS!$B$3:$C$103,2,FALSE)","v":"GOYANG - IDEUL"},{"$f":"VLOOKUP(AY63,CLASIFICADOS!$C$3:$AW$103,2,FALSE)","v":{"v":-1.023E-5,"d":"-0"}}]
[-6.2e-07,77,"PIONEROS MEJIA",{"v":-3.968E-5,"d":"-0"},0,0,0,0,0,0,0,0,0,0,0,0,0,0,0,0,0,0,{"$nulls":26},0,62,{"$f":"VLOOKUP(AX64,CLASIFICADOS!$B$3:$C$103,2,FALSE)","v":"HIMCHARI DONJANG"},{"$f":"VLOOKUP(AY64,CLASIFICADOS!$C$3:$AW$103,2,FALSE)","v":{"v":-1.1550000000000001E-5,"d":"-0"}}]
[-6.3E-7,78,"PYONG YANG",{"v":-4.095e-05,"d":"-0"},0,0,0,0,0,0,0,0,0,0,0,0,0,0,0,0,0,0,{"$nulls":26},0,63,{"$f":"VLOOKUP(AX65,CLASIFICADOS!$B$3:$C$103,2,FALSE)","v":"JR SPORT"},{"$f":"VLOOKUP(AY65,CLASIFICADOS!$C$3:$AW$103,2,FALSE)","v":{"v":-1.52E-5,"d":"-0"}}]
[-6.4e-07,79,"RAIG de LLUM",{"v":-4.224e-05,"d":"-0"},0,0,0,0,0,0,0,0,0,0,0,0,0,0,0,0,0,0,{"$nulls":26},0,64,{"$f":"VLOOKUP(AX66,CLASIFICADOS!$B$3:$C$103,2,FALSE)","v":"JUVENTUS"},{"$f":"VLOOKUP(AY66,CLASIFICADOS!$C$3:$AW$103,2,FALSE)","v":{"v":-1.599e-05,"d":"-0"}}]
[-6.5e-07,{"$f":"_xlfn.RANK.AVG(D67,$D$3:$D$103,0)","v":80},"RED TANAKA",{"$f":"AW67+A67*ROW()","v":{"v":-4.355e-05,"d":"-0"}},0,0,0,0,0,0,0,0,0,0,0,0,0,0,0,0,0,0,{"$nulls":26},{"$f":"SUM(E67:AV67)","v":0},65,{"$f":"VLOOKUP(AX67,CLASIFICADOS!$B$3:$C$103,2,FALSE)","v":"KOREAN DRAGON"},{"$f":"VLOOKUP(AY67,CLASIFICADOS!$C$3:$AW$103,2,FALSE)","v":{"v":-1.848e-05,"d":"-0"}}]
[-6.6e-07,81,"RENACER",{"v":-4.4880000000000004E-5,"d":"-0"},0,0,0,0,0,0,0,0,0,0,0,0,0,0,0,0,0,0,{"$nulls":26},0,{"$f":"AX67+1","v":66},{"$f":"VLOOKUP(AX68,CLASIFICADOS!$B$3:$C$103,2,FALSE)","v":"KUKKIKWON"},{"$f":"VLOOKUP(AY68,CLASIFICADOS!$C$3:$AW$103,2,FALSE)","v":{"v":-2.0240000000000003E-5,"d":"-0"}}]
[-6.7e-07,32,"RYONG TAE",{"v":5.99995377,"d":"6"},0,0,0,4,0,0,0,0,0,0,0,0,2,0,0,0,0,0,{"$nulls":26},6,67,{"$f":"VLOOKUP(AX69,CLASIFICADOS!$B$3:$C$103,2,FALSE)","v":"LITHE BODY"},{"$f":"VLOOKUP(AY69,CLASIFICADOS!$C$3:$AW$103,2,FALSE)","v":{"v":-2.499E-5,"d":"-0"}}]
[-6.8e-07,16,"ROJAS  IRON FIRST",{"v":35.9999524,"d":"36"},0,0,4,0,0,0,0,0,0,0,8,0,2,0,0,10,12,0,{"$nulls":26},36,68,{"$f":"VLOOKUP(AX70,CLASIFICADOS!$B$3:$C$103,2,FALSE)","v":"LOBOS"},{"$f":"VLOOKUP(AY70,CLASIFICADOS!$C$3:$AW$103,2,FALSE)","v":{"v":-2.6e-05,"d":"-0"}}]
[-6.9e-07,5,"S.D.CENTRAL",{"v":110.99995101,"d":"111"},8,0,6,0,10,32,12,0,0,0,0,0,0,0,0,43,0,0,{"$nulls":26},111,69,{"$f":"VLOOKUP(AX71,CLASIFICADOS!$B$3:$C$103,2,FALSE)","v":"MASTER HOME"},{"$f":"VLOOKUP(AY71,CLASIFICADOS!$C$3:$AW$103,2,FALSE)","v":{"v":-2.808e-05,"d":"-0"}}]
[-7e-07,41,"SAN FRANCISCO TIGRES",{"v":1.9999496,"d":"2"},0,0,0,2,0,0,0,0,0,0,0,0,0,0,0,0,0,0,{"$nulls":26},2,70,{"$f":"VLOOKUP(AX72,CLASIFICADOS!$B$3:$C$103,2,FALSE)","v":"MILENIUM"},{"$f":"VLOOKUP(AY72,CLASIFICADOS!$C$3:$AW$103,2,FALSE)","v":{"v":-3.135e-05,"d":"-0"}}]
[-7.1e-07,33,"SAN SEBASTIAN",{"v":5.99994817,"d":"6"},2,2,0,2,0,0,0,0,0,0,0,0,0,0,0,0,0,0,{"$nulls":26},6,71,{"$f":"VLOOKUP(AX73,CLASIFICADOS!$B$3:$C$103,2,FALSE)","v":"MICHAY DO"},{"$f":"VLOOKUP(AY73,CLASIFICADOS!$C$3:$AW$103,2,FALSE)","v":{"v":-3.248e-05,"d":"-0"}}]
[-7.2e-07,82,"SCORPIUS",{"v":-5.328e-05,"d":"-0"},0,0,0,0,0,0,0,0,0,0,0,0,0,0,0,0,0,0,{"$nulls":26},0,72,{"$f":"VLOOKUP(AX74,CLASIFICADOS!$B$3:$C$103,2,FALSE)","v":"MINOTAUROS"},{"$f":"VLOOKUP(AY74,CLASIFICADOS!$C$3:$AW$103,2,FALSE)","v":{"v":-3.363e-05,"d":"-0"}}]
[-7.3E-7,1,"SEUL",{"v":171.99994525,"d":"172"},2,0,12,10,8,0,0,6,0,0,44,0,12,0,0,0,58,20,{"$nulls":26},172,73,{"$f":"VLOOKUP(AX75,CLASIFICADOS!$B$3:$C$103,2,FALSE)","v":"MIT-TKD"},{"$f":"VLOOKUP(AY75,CLASIFICADOS!$C$3:$AW$103,2,FALSE)","v":{"v":-3.48e-05,"d":"-0"}}]
[-7.4e-07,30,"SHOGUN",{"v":7.99994376,"d":"8"},0,0,0,0,0,0,0,0,0,0,0,0,2,0,0,6,0,0,{"$nulls":26},8,74,{"$f":"VLOOKUP(AX76,CLASIFICADOS!$B$3:$C$103,2,FALSE)","v":"PALADINES"},{"$f":"VLOOKUP(AY76,CLASIFICADOS!$C$3:$AW$103,2,FALSE)","v":{"v":-3.599e-05,"d":"-0"}}]
[-7.5e-07,19,"SIM JANG TEAM",{"v":25.99994225,"d":"26"},0,0,0,0,0,6,0,0,0,0,0,0,4,0,0,16,0,0,{"$nulls":26},26,75,{"$f":"VLOOKUP(AX77,CLASIFICADOS!$B$3:$C$103,2,FALSE)","v":"PANDADEMON"},{"$f":"VLOOKUP(AY77,CLASIFICADOS!$C$3:$AW$103,2,FALSE)","v":{"v":-3.7199999999999996E-5,"d":"-0"}}]
[-7.6e-07,83,"SURYUN",{"v":-5.928e-05,"d":"-0"},0,0,0,0,0,0,0,0,0,0,0,0,0,0,0,0,0,0,{"$nulls":26},0,76,{"$f":"VLOOKUP(AX78,CLASIFICADOS!$B$3:$C$103,2,FALSE)","v":"PIONEROS FORTI"},{"$f":"VLOOKUP(AY78,CLASIFICADOS!$C$3:$AW$103,2,FALSE)","v":{"v":-3.8429999999999996E-5,"d":"-0"}}]
[-7.7e-07,34,"TAE BAEK ECUADOR ",{"v":5.99993917,"d":"6"},0,0,0,0,0,0,0,0,0,0,0,0,0,0,0,6,0,0,{"$nulls":26},6,77,{"$f":"VLOOKUP(AX79,CLASIFICADOS!$B$3:$C$103,2,FALSE)","v":"PIONEROS MEJIA"},{"$f":"VLOOKUP(AY79,CLASIFICADOS!$C$3:$AW$103,2,FALSE)","v":{"v":-3.968E-5,"d":"-0"}}]
[-7.8e-07,84,"TAE BAEK ECUADOR JR",{"v":-6.24e-05,"d":"-0"},0,0,0,0,0,0,0,0,0,0,0,0,0,0,0,0,0,0,{"$nulls":26},0,78,{"$f":"VLOOKUP(AX80,CLASIFICADOS!$B$3:$C$103,2,FALSE)","v":"PYONG YANG"},{"$f":"VLOOKUP(AY80,CLASIFICADOS!$C$3:$AW$103,2,FALSE)","v":{"v":-4.095e-05,"d":"-0"}}]
[-7.9e-07,85,"TAE KINGS",{"v":-6.399e-05,"d":"-0"},0,0,0,0,0,0,0,0,0,0,0,0,0,0,0,0,0,0,{"$nulls":26},0,79,{"$f":"VLOOKUP(AX81,CLASIFICADOS!$B$3:$C$103,2,FALSE)","v":"RAIG de LLUM"},{"$f":"VLOOKUP(AY81,CLASIFICADOS!$C$3:$AW$103,2,FALSE)","v":{"v":-4.224e-05,"d":"-0"}}]
[-8e-07,17,"TAE SHO KU",{"v":26.9999344,"d":"27"},0,0,6,6,0,13,0,0,0,0,0,0,2,0,0,0,0,0,{"$nulls":26},27,80,{"$f":"VLOOKUP(AX82,CLASIFICADOS!$B$3:$C$103,2,FALSE)","v":"RED TANAKA"},{"$f":"VLOOKUP(AY82,CLASIFICADOS!$C$3:$AW$103,2,FALSE)","v":{"v":-4.355e-05,"d":"-0"}}]
[-8.1e-07,22,"TAE DO ACADEMY",{"v":19.99993277,"d":"20"},0,0,4,8,0,0,0,0,0,0,0,0,8,0,0,0,0,0,{"$nulls":26},20,81,{"$f":"VLOOKUP(AX83,CLASIFICADOS!$B$3:$C$103,2,FALSE)","v":"RENACER"},{"$f":"VLOOKUP(AY83,CLASIFICADOS!$C$3:$AW$103,2,FALSE)","v":{"v":-4.4880000000000004E-5,"d":"-0"}}]
[-8.2e-07,13,"TAEKWONDO TRAINING CENTER",{"v":37.99993112,"d":"38"},0,0,0,6,0,0,0,0,0,0,0,0,2,0,30,0,0,0,{"$nulls":26},38,82,{"$f":"VLOOKUP(AX84,CLASIFICADOS!$B$3:$C$103,2,FALSE)","v":"SCORPIUS"},{"$f":"VLOOKUP(AY84,CLASIFICADOS!$C$3:$AW$103,2,FALSE)","v":{"v":-5.328e-05,"d":"-0"}}]
[-8.3e-07,86,"TAEKWONDO JITAE",{"v":-7.055e-05,"d":"-0"},0,0,0,0,0,0,0,0,0,0,0,0,0,0,0,0,0,0,{"$nulls":26},0,83,{"$f":"VLOOKUP(AX85,CLASIFICADOS!$B$3:$C$103,2,FALSE)","v":"SURYUN"},{"$f":"VLOOKUP(AY85,CLASIFICADOS!$C$3:$AW$103,2,FALSE)","v":{"v":-5.928e-05,"d":"-0"}}]
[-8.4E-7,87,"TAEKWONDO JUCARO",{"v":-7.224E-5,"d":"-0"},0,0,0,0,0,0,0,0,0,0,0,0,0,0,0,0,0,0,{"$nulls":26},0,84,{"$f":"VLOOKUP(AX86,CLASIFICADOS!$B$3:$C$103,2,FALSE)","v":"TAE BAEK ECUADOR JR"},{"$f":"VLOOKUP(AY86,CLASIFICADOS!$C$3:$AW$103,2,FALSE)","v":{"v":-6.24e-05,"d":"-0"}}]
[-8.5e-07,42,"TAEKWONDO WOONG",{"v":1.99992605,"d":"2"},0,0,0,0,0,0,0,0,0,0,0,0,2,0,0,0,0,0,{"$nulls":26},2,85,{"$f":"VLOOKUP(AX87,CLASIFICADOS!$B$3:$C$103,2,FALSE)","v":"TAE KINGS"},{"$f":"VLOOKUP(AY87,CLASIFICADOS!$C$3:$AW$103,2,FALSE)","v":{"v":-6.399e-05,"d":"-0"}}]
[-8.6e-07,88,"TEAM TAUROS TAEKWONDO",{"v":-7.5680000000000007E-5,"d":"-0"},0,0,0,0,0,0,0,0,0,0,0,0,0,0,0,0,0,0,{"$nulls":26},0,86,{"$f":"VLOOKUP(AX88,CLASIFICADOS!$B$3:$C$103,2,FALSE)","v":"TAEKWONDO JITAE"},{"$f":"VLOOKUP(AY88,CLASIFICADOS!$C$3:$AW$103,2,FALSE)","v":{"v":-7.055e-05,"d":"-0"}}]
[-8.7e-07,89,"TEAM VENCEDORES",{"v":-7.7430000000000009E-5,"d":"-0"},0,0,0,0,0,0,0,0,0,0,0,0,0,0,0,0,0,0,{"$nulls":26},0,87,{"$f":"VLOOKUP(AX89,CLASIFICADOS!$B$3:$C$103,2,FALSE)","v":"TAEKWONDO JUCARO"},{"$f":"VLOOKUP(AY89,CLASIFICADOS!$C$3:$AW$103,2,FALSE)","v":{"v":-7.224E-5,"d":"-0"}}]
[-8.8e-07,90,"TEKKEN",{"v":-7.92e-05,"d":"-0"},0,0,0,0,0,0,0,0,0,0,0,0,0,0,0,0,0,0,{"$nulls":26},0,88,{"$f":"VLOOKUP(AX90,CLASIFICADOS!$B$3:$C$103,2,FALSE)","v":"TEAM TAUROS TAEKWONDO"},{"$f":"VLOOKUP(AY90,CLASIFICADOS!$C$3:$AW$103,2,FALSE)","v":{"v":-7.5680000000000007E-5,"d":"-0"}}]
[-8.9e-07,43,"TOTAL KOMBAT",{"v":1.99991901,"d":"2"},0,0,0,0,0,0,0,0,0,0,0,0,2,0,0,0,0,0,{"$nulls":26},2,89,{"$f":"VLOOKUP(AX91,CLASIFICADOS!$B$3:$C$103,2,FALSE)","v":"TEAM VENCEDORES"},{"$f":"VLOOKUP(AY91,CLASIFICADOS!$C$3:$AW$103,2,FALSE)","v":{"v":-7.7430000000000009E-5,"d":"-0"}}]
[-9e-07,91,"U SAN FRANCISCO USFQ",{"v":-8.28e-05,"d":"-0"},0,0,0,0,0,0,0,0,0,0,0,0,0,0,0,0,0,0,{"$nulls":26},0,90,{"$f":"VLOOKUP(AX92,CLASIFICADOS!$B$3:$C$103,2,FALSE)","v":"TEKKEN"},{"$f":"VLOOKUP(AY92,CLASIFICADOS!$C$3:$AW$103,2,FALSE)","v":{"v":-7.92e-05,"d":"-0"}}]
[-9.1e-07,92,"UNIVERSAL",{"v":-8.463e-05,"d":"-0"},0,0,0,0,0,0,0,0,0,0,0,0,0,0,0,0,0,0,{"$nulls":26},0,91,{"$f":"VLOOKUP(AX93,CLASIFICADOS!$B$3:$C$103,2,FALSE)","v":"U SAN FRANCISCO USFQ"},{"$f":"VLOOKUP(AY93,CLASIFICADOS!$C$3:$AW$103,2,FALSE)","v":{"v":-8.28e-05,"d":"-0"}}]
[-9.2e-07,93,"UNIVERSIDAD CENTRAL (CAMU)",{"v":-8.648e-05,"d":"-0"},0,0,0,0,0,0,0,0,0,0,0,0,0,0,0,0,0,0,{"$nulls":26},0,92,{"$f":"VLOOKUP(AX94,CLASIFICADOS!$B$3:$C$103,2,FALSE)","v":"UNIVERSAL"},{"$f":"VLOOKUP(AY94,CLASIFICADOS!$C$3:$AW$103,2,FALSE)","v":{"v":-8.463e-05,"d":"-0"}}]
[-9.3e-07,94,"UNIVERSIDAD  HIMISFERIOS",{"v":-8.8349999999999993E-5,"d":"-0"},0,0,0,0,0,0,0,0,0,0,0,0,0,0,0,0,0,0,{"$nulls":26},{"$f":"SUM(E95:AV95)","v":0},93,{"$f":"VLOOKUP(AX95,CLASIFICADOS!$B$3:$C$103,2,FALSE)","v":"UNIVERSIDAD CENTRAL (CAMU)"},{"$f":"VLOOKUP(AY95,CLASIFICADOS!$C$3:$AW$103,2,FALSE)","v":{"v":-8.648e-05,"d":"-0"}}]
[-9.4E-7,95,"VALLE",{"v":-9.024e-05,"d":"-0"},0,0,0,0,0,0,0,0,0,0,0,0,0,0,0,0,0,0,{"$nulls":26},0,94,{"$f":"VLOOKUP(AX96,CLASIFICADOS!$B$3:$C$103,2,FALSE)","v":"UNIVERSIDAD  HIMISFERIOS"},{"$f":"VLOOKUP(AY96,CLASIFICADOS!$C$3:$AW$103,2,FALSE)","v":{"v":-8.8349999999999993E-5,"d":"-0"}}]
[-9.5e-07,96,"VEMON",{"v":-9.215e-05,"d":"-0"},0,0,0,0,0,0,0,0,0,0,0,0,0,0,0,0,0,0,{"$nulls":26},0,95,{"$f":"VLOOKUP(AX97,CLASIFICADOS!$B$3:$C$103,2,FALSE)","v":"VALLE"},{"$f":"VLOOKUP(AY97,CLASIFICADOS!$C$3:$AW$103,2,FALSE)","v":{"v":-9.024e-05,"d":"-0"}}]
[-9.6e-07,97,"VILL GYM",{"v":-9.408e-05,"d":"-0"},0,0,0,0,0,0,0,0,0,0,0,0,0,0,0,0,0,0,{"$nulls":26},0,96,{"$f":"VLOOKUP(AX98,CLASIFICADOS!$B$3:$C$103,2,FALSE)","v":"VEMON"},{"$f":"VLOOKUP(AY98,CLASIFICADOS!$C$3:$AW$103,2,FALSE)","v":{"v":-9.215e-05,"d":"-0"}}]
[-9.7e-07,10,"YONG TIGER",{"v":54.99990397,"d":"55"},0,0,8,2,6,6,0,0,0,0,8,0,4,0,0,14,7,0,{"$nulls":26},55,97,{"$f":"VLOOKUP(AX99,CLASIFICADOS!$B$3:$C$103,2,FALSE)","v":"VILL GYM"},{"$f":"VLOOKUP(AY99,CLASIFICADOS!$C$3:$AW$103,2,FALSE)","v":{"v":-9.408e-05,"d":"-0"}}]
[-9.8e-07,98,null,{"v":-9.8e-05,"d":"-0"},{"$nulls":44},0,98,{"$f":"VLOOKUP(AX100,CLASIFICADOS!$B$3:$C$103,2,FALSE)","v":0},{"$f":"VLOOKUP(AY100,CLASIFICADOS!$C$3:$AW$103,2,FALSE)","v":{"$error":"#N/A"}}]
[-9.9e-07,99,null,{"v":-9.999000000000001E-5,"d":"-0"},{"$nulls":44},0,99,{"$f":"VLOOKUP(AX101,CLASIFICADOS!$B$3:$C$103,2,FALSE)","v":0},{"$f":"VLOOKUP(AY101,CLASIFICADOS!$C$3:$AW$103,2,FALSE)","v":{"$error":"#N/A"}}]
[-1e-06,100,null,{"v":-1.02E-4,"d":"-0"},{"$nulls":44},{"$f":"SUM(E102:AV102)","v":0},100,{"$f":"VLOOKUP(AX102,CLASIFICADOS!$B$3:$C$103,2,FALSE)","v":0},{"$f":"VLOOKUP(AY102,CLASIFICADOS!$C$3:$AW$103,2,FALSE)","v":{"$error":"#N/A"}}]
[-1.01e-06,101,null,{"v":-0.00010403,"d":"-0"},{"$nulls":44},{"$f":"SUM(E103:AV103)","v":0},101,{"$f":"VLOOKUP(AX103,CLASIFICADOS!$B$3:$C$103,2,FALSE)","v":0},{"$f":"VLOOKUP(AY103,CLASIFICADOS!$C$3:$AW$103,2,FALSE)","v":{"$error":"#N/A"}}]